BEGIN:VCALENDAR
VERSION:2.0
PRODID:-//Natuerlich Gesund e.V. - ECPv6.15.20//NONSGML v1.0//EN
CALSCALE:GREGORIAN
METHOD:PUBLISH
X-ORIGINAL-URL:https://ngev.org
X-WR-CALDESC:Veranstaltungen für Natuerlich Gesund e.V.
REFRESH-INTERVAL;VALUE=DURATION:PT1H
X-Robots-Tag:noindex
X-PUBLISHED-TTL:PT1H
BEGIN:VTIMEZONE
TZID:UTC
BEGIN:STANDARD
TZOFFSETFROM:+0000
TZOFFSETTO:+0000
TZNAME:UTC
DTSTART:20220101T000000
END:STANDARD
END:VTIMEZONE
BEGIN:VEVENT
DTSTART;TZID=UTC:20230930T090000
DTEND;TZID=UTC:20231001T150000
DTSTAMP:20260426T001642
CREATED:20230511T062025Z
LAST-MODIFIED:20230917T075559Z
UID:7041-1696064400-1696172400@ngev.org
SUMMARY:Fortbildung Progressive Massage
DESCRIPTION:zurück\n			\n			\n				\n				\n				\n				\n			\n				\n				\n				\n				\n				\n				\n				\n				\n				\n				\n				Progressive Massage\n			\n				\n				\n				\n				\n				Der Weg zur Gesundheit über die Wirbelsäule\n			\n				\n				\n				\n				\n				Mein Name ist Wojtek Kapinsky. Die Massage\, die du in derFortbildung erlernst\, kommt aus physiotherapeutischen Spezialbereichen verschiedener Länder (Tschechei\, Polen\, Schweden).\nMeine Art der Massage\, die ich dir vermitteln möchte\, nenne ich “Progressive Massage”. Progressiv bedeutet: auf den Fortschritt ausgerichtet und stufenweise steigernd. Im Fall dieserVorgehensweise wird schrittweise die Bewegung zurückgewonnen. Die Arbeit bezieht sich auf alle Bereiche des Bewegungsapparates. Ganzheitlich arbeiten heißt nicht nur an den Gelenken zu arbeiten\, sondern auch an allen anderen Zusammenhängen von Geweben\, Muskeln\, des Bindegewebes\, den Faszien und den Bändern. Für die Progressive Massage bilden alle diese Teile ein untrennbares Ganzes. Unser Körper war\, ist und wird immer eine Einheit bleiben.\n			\n				\n				\n				\n				\n				Ausschnitt aus den Inhalten: Zusammenfassung der Ursachen und Hintergründe von Schmerzen und Bewegungseinschränkungen\, neue Techniken zur Beseitigung von X- und O-Beinen und vielen anderen Krankheitsbildern\, Arbeiten an Trigger-Punkten\, Harmonisierung der Wirbelsäule im Liegen\, Akupressur\, dynamische Schröpfmassage\, neue Griffe für die Halswirbelsäule\,Erfahrungen und Tipps aus der Arbeit.\n			\n			\n				\n				\n				\n				\n				\n				\n				\n				\n				\n				\n			\n				\n				\n				\n				\n				\n			\n				\n				\n				\n				\n				In der Fortbildung haben wir Zeit\, die neuen Techniken und Übungen zu erlernen und aneinander nachhaltig zu üben.\n			\n				\n				\n				\n				\n				\n			\n			\n				\n				\n				\n				\n			\n				\n				\n				\n				\n				\n				\n				\n				\n				\n				\n				Bitte mitbringen: Handtücher\, bequeme Kleidung\, Schreibsachen\,\nEssen (Teeküche ist vorhanden)\n\n			\n			\n				\n				\n				\n				\n			\n				\n				\n				\n				\n				\n				\n				\n				\n				\n				\n				Termin: 09. – 10. September 2023\,\nBeginn 09:00 Uhr Ende 15:00\nOrt: Zentrum f. Licht – Gesundheit – Energie\nDrosselgasse 6 \, 82166 Gräfelfing\, Bayern\nÜbernachtungen sind möglich.\n			\n				\n				\n				\n				\n				Anmeldung: Manfred Durben\, darkdurben@t-online.de\, 02681-981431oder an info@ngev.org\n			\n			\n				\n				\n				\n				\n				\n				\n				\n				\n				\n				Kosten\, inkl. Seminarskript und eine Teilnahmebestätigung:\nBis 6 Teilnehmer\, 250\,-€ pro Teilnehmer.\nAb 7 Teilnehmer\, 225\,-€ pro Teilnehmer.\nAb 8 Teilnehmer\, 200\,-€ pro Teilnehmer.\n			\n			\n				\n				\n				\n				\n			\n				\n				\n				\n				\n				\n				\n				\n				\n				\n				\n				\n			\n				\n				\n				\n				\n				Seminarleiter: \nWojtek Kapinsky\n\n			\n				\n				\n				\n				\n				Wir freuen uns auf deine Anmeldung. \n			\n				\n				\n				\n				\n				Datenschutzrechtliche Einwilligungserklärung:\nDie Erhebung\, Speicherung und Verwendung obiger Daten ist für die funktionale Wirksamkeit der Verwaltung des Vereins unumgänglich. Mit nachfolgender Unterschrift willigen Sie in freier Entscheidung ein\, dass der Verein die obigen persönlichen Daten von Ihnen erheben\, speichern und dem Vereinszweck und der Vereinssatzung entsprechend verwenden darf.
URL:https://ngev.org/event/fortbildung-progressive-massage-2/
LOCATION:Licht – Gesundheit – Energie Zentrum\, Drosselgasse 6\, Gräfelfing\, Bayern\, 82166\, Deutschland
CATEGORIES:Fortbildung
ORGANIZER;CN="Nat%C3%BCrlich Gesund e.V.":MAILTO:info@ngev.org
END:VEVENT
END:VCALENDAR