BEGIN:VCALENDAR
VERSION:2.0
PRODID:-//Natuerlich Gesund e.V. - ECPv6.15.20//NONSGML v1.0//EN
CALSCALE:GREGORIAN
METHOD:PUBLISH
X-ORIGINAL-URL:https://ngev.org
X-WR-CALDESC:Veranstaltungen für Natuerlich Gesund e.V.
REFRESH-INTERVAL;VALUE=DURATION:PT1H
X-Robots-Tag:noindex
X-PUBLISHED-TTL:PT1H
BEGIN:VTIMEZONE
TZID:UTC
BEGIN:STANDARD
TZOFFSETFROM:+0000
TZOFFSETTO:+0000
TZNAME:UTC
DTSTART:20230101T000000
END:STANDARD
END:VTIMEZONE
BEGIN:VEVENT
DTSTART;TZID=UTC:20240413T100000
DTEND;TZID=UTC:20240413T170000
DTSTAMP:20260425T151032
CREATED:20240314T061508Z
LAST-MODIFIED:20240314T074654Z
UID:274481-1713002400-1713027600@ngev.org
SUMMARY:Grundkurs für DORN
DESCRIPTION:zurück\n			\n			\n				\n				\n				\n				\n			\n				\n				\n				\n				\n				\n				\n				\n				\n				\n				\n				Titel: Grundkurs für DORN\nReferentin: Dagmar Steffens\nHandynummer 0178-3030160\n			\n				\n				\n				\n				\n				Gerne können Sie mit uns Kontakt aufnehmen.\n			\n				\n				\n				\n				\n				\n \nDatum: 13.04.2024\n\nUhrzeit: 10.00 – 17.00 Uhr\n\nPreis: 120\,-€ pro Person\, für Paare 200\,-€\n\n \nWo:\nImpulszeit-Gesundheit\nSchillerstr. 77\n52064 Aachen\n\n			\n			\n				\n				\n				\n				\n				\n				\n				\n				\n				\n				\n			\n				\n				\n				\n				\n				\n				\n				\n					DagmarSteffens\n				\n			\n			\n				\n				\n				\n				\n			\n				\n				\n				\n				\n				\n				\n				\n				\n				\n				\n				\n			\n				\n				\n				\n				\n				Datenschutzrechtliche Einwilligungserklärung:\nDie Erhebung\, Speicherung und Verwendung (z.B. für die Ladung zu Mitgliederversammlungen) obiger Daten ist für die funktionale Wirksamkeit der Verwaltung des Vereins unumgänglich. Mit nachfolgender Unterschrift willigen Sie in freier Entscheidung ein\, dass der Verein die obigen persönlichen Daten von Ihnen erheben\, speichern und dem Vereinszweck und der Vereinssatzung entsprechend verwenden darf.
URL:https://ngev.org/event/grundkurs-fuer-dorn/
LOCATION:Impulszeit-Gesundheit\, Schillerstr. 77\, Aachen\, 52064\, Deutschland
ORGANIZER;CN="Nat%C3%BCrlich Gesund e.V.":MAILTO:info@ngev.org
END:VEVENT
END:VCALENDAR