BEGIN:VCALENDAR
VERSION:2.0
PRODID:-//Natuerlich Gesund e.V. - ECPv6.15.20//NONSGML v1.0//EN
CALSCALE:GREGORIAN
METHOD:PUBLISH
X-ORIGINAL-URL:https://ngev.org
X-WR-CALDESC:Veranstaltungen für Natuerlich Gesund e.V.
REFRESH-INTERVAL;VALUE=DURATION:PT1H
X-Robots-Tag:noindex
X-PUBLISHED-TTL:PT1H
BEGIN:VTIMEZONE
TZID:UTC
BEGIN:STANDARD
TZOFFSETFROM:+0000
TZOFFSETTO:+0000
TZNAME:UTC
DTSTART:20230101T000000
END:STANDARD
END:VTIMEZONE
BEGIN:VEVENT
DTSTART;TZID=UTC:20240518T190000
DTEND;TZID=UTC:20240518T203000
DTSTAMP:20260425T133256
CREATED:20231129T123348Z
LAST-MODIFIED:20231129T144230Z
UID:273775-1716058800-1716064200@ngev.org
SUMMARY:Webinar 18.05.2024
DESCRIPTION:zurück\n			\n			\n				\n				\n				\n				\n			\n				\n				\n				\n				\n				\n				\n				\n				\n				\n				\n				Die Webinare finden immer von\n19-20.30 Uhr statt.\nSie können sich zu dem gegebenen Termin einfach anmelden\nund wir schicken Ihnen die Zugangsdaten für das Webinar zu.\nAll unsere Webinare sind kostenlos.\n			\n			\n				\n				\n				\n				\n			\n				\n				\n				\n				\n				\n				\n				\n				\n				\n				\n				Webinar 18.05.2024 \n			\n				\n				\n				\n				\n				Émile Coué ist der als Menschenfreund in aller Welt geachtete Pionier und Vater der Autosuggestion. Zehntausende Hilfesuchende kamen jedes Jahr aus aller Welt zu ihm. Aus seinen öffentlichen Sitzungen wurden keine Misserfolge sondern nur die erstaunlichsten Heilergebnisse berichtet. Durch seine enormen praktischen Erfolge machte er binnen weniger Jahre aus dem unbekannten Fachbegriff Autosuggestion eine weltberühmte Selbsthilfe-Methode. Lesen und erleben Sie\, wie  man sein Ich-kann stärkt und über Probleme und sich selbst hinauswächst!\n			\n				\n				\n				\n				\n				\n http://www.coue.org/\n\n			\n			\n				\n				\n				\n				\n			\n				\n				\n				\n				\n				\n				\n				\n				\n				\n				\n				\n			\n				\n				\n				\n				\n				Referenten:\nFranz Josef Neffe mit Émile Coué\n			\n				\n				\n				\n				\n				Gerne können Sie mit uns Kontakt aufnehmen.\n			\n				\n				\n				\n				\n				Datenschutzrechtliche Einwilligungserklärung:\nDie Erhebung\, Speicherung und Verwendung (z.B. für die Ladung zu Mitgliederversammlungen) obiger Daten ist für die funktionale Wirksamkeit der Verwaltung des Vereins unumgänglich. Mit nachfolgender Unterschrift willigen Sie in freier Entscheidung ein\, dass der Verein die obigen persönlichen Daten von Ihnen erheben\, speichern und dem Vereinszweck und der Vereinssatzung entsprechend verwenden darf.
URL:https://ngev.org/event/webinar-18-05-2024/
LOCATION:Online
CATEGORIES:Webinar
ORGANIZER;CN="Nat%C3%BCrlich Gesund e.V.":MAILTO:info@ngev.org
END:VEVENT
END:VCALENDAR