BEGIN:VCALENDAR
VERSION:2.0
PRODID:-//Natuerlich Gesund e.V. - ECPv6.15.20//NONSGML v1.0//EN
CALSCALE:GREGORIAN
METHOD:PUBLISH
X-WR-CALNAME:Natuerlich Gesund e.V.
X-ORIGINAL-URL:https://ngev.org
X-WR-CALDESC:Veranstaltungen für Natuerlich Gesund e.V.
REFRESH-INTERVAL;VALUE=DURATION:PT1H
X-Robots-Tag:noindex
X-PUBLISHED-TTL:PT1H
BEGIN:VTIMEZONE
TZID:UTC
BEGIN:STANDARD
TZOFFSETFROM:+0000
TZOFFSETTO:+0000
TZNAME:UTC
DTSTART:20230101T000000
END:STANDARD
END:VTIMEZONE
BEGIN:VEVENT
DTSTART;TZID=UTC:20240524T190000
DTEND;TZID=UTC:20240524T210000
DTSTAMP:20260425T132904
CREATED:20231105T095141Z
LAST-MODIFIED:20231105T095404Z
UID:273464-1716577200-1716584400@ngev.org
SUMMARY:KoMit – Kollegentreffen und Infotreffen | Mellinghausen/Bremen
DESCRIPTION:zurück\n			\n			\n				\n				\n				\n				\n			\n				\n				\n				\n				\n				\n				\n				\n				\n				\n				\n				Informationen und Austausch für alle interessierte!\n			\n				\n				\n				\n				\n				In diesem Treffen werden wir viele Neuigkeiten besprechen und uns austauschen. Wir freuen uns auf jeden der Mitmachen möchte. \n			\n				\n				\n				\n				\n				Ort: Ort im Eulenhof Mellinghausen\nZeit: 19:00 – 21:00 Uhr\nThema: zur Zeit noch nicht Bekannt
URL:https://ngev.org/event/komit-kollegentreffen-und-infotreffen-mellinghausen-bremen/
LOCATION:Eulenhof Mellinghausen\, Klitzenburger Str. 6\, Mellinghausen\, 27249\, Deutschland
CATEGORIES:Info-Treffen
ORGANIZER;CN="Nat%C3%BCrlich Gesund e.V.":MAILTO:info@ngev.org
END:VEVENT
END:VCALENDAR