BEGIN:VCALENDAR
VERSION:2.0
PRODID:-//Natuerlich Gesund e.V. - ECPv6.15.20//NONSGML v1.0//EN
CALSCALE:GREGORIAN
METHOD:PUBLISH
X-WR-CALNAME:Natuerlich Gesund e.V.
X-ORIGINAL-URL:https://ngev.org
X-WR-CALDESC:Veranstaltungen für Natuerlich Gesund e.V.
REFRESH-INTERVAL;VALUE=DURATION:PT1H
X-Robots-Tag:noindex
X-PUBLISHED-TTL:PT1H
BEGIN:VTIMEZONE
TZID:UTC
BEGIN:STANDARD
TZOFFSETFROM:+0000
TZOFFSETTO:+0000
TZNAME:UTC
DTSTART:20230101T000000
END:STANDARD
END:VTIMEZONE
BEGIN:VEVENT
DTSTART;TZID=UTC:20241017T090000
DTEND;TZID=UTC:20241020T160000
DTSTAMP:20260423T025918
CREATED:20231105T104148Z
LAST-MODIFIED:20240807T152924Z
UID:273498-1729155600-1729440000@ngev.org
SUMMARY:Systemaufstellung und Familienstellen – Ausbildung – Mellinghausen/Bremen
DESCRIPTION:zurück\n			\n			\n				\n				\n				\n				\n			\n				\n				\n				\n				\n				\n				\n				\n				\n				\n				\n				Die Familienaufstellungen gehen auf Bert Hellinger zurück und haben im Laufe der Jahre eine breite Anerkennung in unterschiedlichen Bereichen erfahren. Unsere Familie ist ein lebendiges System. Sie prägt unsere Entwicklung und damit auch unsere privaten und beruflichen Beziehungen. Wenn wir uns mit einem Baum vergleichen würden\, so wären unsere Kinder die Früchte und unsere Großeltern die Wurzeln\, deswegen spricht man von einem Stammbaum. „Zwei Dinge sollen Kinder von ihren Eltern bekommen: Wurzeln und Flügel.“ – J. W. von Goethe.\n			\n			\n				\n				\n				\n				\n				\n			\n				\n				\n				\n				\n			\n				\n				\n				\n				\n				\n				\n				\n				\n				\n				\n				In der systemischen Arbeit schauen wir auf die Hintergründe\, die zur derzeitigen Situation geführt haben\, um die Zusammenhänge zu erkennen und neue Lösungswege zu finden. Scheinbar unlösbare Lebenssituationen wie: psychosomatische Beschwerden\, Blockaden\, Ängste oder belastende Berufs- und Familiensituationen und vieles andere mehr.\n			\n				\n				\n				\n				\n				Die eigentliche tiefe Ursache liegt im Menschen selbst und kann auch nur dort gelöst werden. Die persönliche Problematik kann in der Regel einer familiären Dynamik zugeordnet werden. Selbst erlebte oder in der Familie vorgefallene traumatische Konflikte sind ursächlich. Dies trifft auch auf andere chronische Leiden zu\, die aus schulmedizinischer Sicht zwar behandelt aber nicht geheilt werden können.\n\nEin Kind ist durch seine genetische Abstammung und die übernommenen Einstellungen und Verhaltensweisen wie seine Eltern. Die Ausgeschlossenen oder die Verachteten werden früher oder später von einem Mitglied der Familie vertreten\, ohne dass dieser das weiß. Man übernimmt die Rolle des anderen. So lebt man zwei Leben. Oder wie Goethe sagte: “Zwei Seelen wohnen\, ach! in meine Brust”. Wir können dieses Gefühl in uns spüren. „Das bin ich doch gar nicht. Das gehört nicht zu mir.“ In diesen Fällen kann eine Aufstellung der entscheidende Schritt sein. Unsere praktischen und energetischen Behandlungsmethoden werden so optimal ergänzt.\n			\n				\n				\n				\n				\n				Das Ziel von Systemischen Aufstellungen und der Ausbildung\n			\n				\n				\n				\n				\n				Wir glauben oft\, dass die Liebe alles heilen kann. Doch wir erleben\, dass das nicht stimmt. Eltern erfahren\, dass Kinder sich trotz ihrer Liebe ganz anders entwickeln. Kinder werden krank\, süchtig oder sie bringen sich um\, obwohl die Eltern ihnen ihre ganze Liebe geschenkt haben. Damit die Liebe gelingt braucht es also noch etwas. Es braucht das Wissen und die Anerkennung der Ordnung\, in der die Liebe bleibt\, sich entwickelt und gedeiht. Die Ordnung ist das Gefäß und die Liebe der Inhalt\, ohne Gefäß kann die Liebe nicht bleiben. Um das in seiner ganzen Tiefe zu begreifen\, sind Familien-Aufstellen der beste Weg.\n\nFamilien-Aufstellungen werden in der Gruppe mit lebenden Stellvertretern gelehrt und geübt. Eine Familienaufstellung mit Figuren hat ihren eigenen Ablauf\, der hier auch gelehrt wird. Wenn z.B. in der konkreten Behandlungssituation keine Gruppe zur Verfügung steht\, können wir auch mit Figuren aufstellen. Es ist verblüffend\, dass sich die Familiendynamiken über eine Figurenaufstellung genauso präzise zeigen\, wie mit Stellvertretern in einer Gruppe. Jeder Teilnehmer erarbeitet ein Genogramm der Familienmitglieder als Vorbereitung. Das Ziel ist Schritt für Schritt frei zu werden\, wieder Liebe anzunehmen\, weiterzugeben und sich von familiären Verstrickungen zu lösen. Die Erkenntnisse aus den Aufstellungen werden im Alltag zu gelebter Liebe.\n			\n			\n				\n				\n				\n				\n			\n				\n				\n				\n				\n				\n				\n				\n				\n				\n				\n				\n			\n				\n				\n				\n				\n				Ausbildung Systemaufstellung\n			\n				\n				\n				\n				\n				Es geht …\n\n\num das Wissen und den Hintergrund bei Aufstellungen.\num die Verbesserung des Erfolgs unserer Arbeit.\num die Lösung eigener Probleme.\num die Vorgehensweise bei Systemaufstellungen.\num das Genogramm und die persönliche Biografie.\num Gegenwarts- und Herkunftsfamilie.\num Verstrickungen.\num das Finden von Lösungssätzen.\num die Leitung von Gruppen- und Einzelaufstellungen.\n\n\n			\n				\n				\n				\n				\n				Ausbildungsunterlagen werden vor der Ausbildung zur Vorbereitung an die Teilnehmer geschickt und folgende Bücher sollten gelesen werden: Zweierlei Glück\, Gunthard Weber\, ISBN 978-3-89670-585-3 &Trauma\, Bindungen und Familienstellen – Seelische Verletzungen verstehen und heilen\, Franz Ruppert\, ISBN 3-608-89742-9\n\n			\n				\n				\n				\n				\n				Referenten:\nJoachim Wohlfeil\, Laura Auel und Team\n			\n				\n				\n				\n				\n				Kosten:\n			\n				\n				\n				\n				\n				1.200\,00 Euro\, inkl. ausführliche Ausbildungsunterlagen mit Lösungssätzen\, ein vorgegebenes Webinar zum gemeinsamen erarbeiten des eigenen Genogramms\, 4 Tage Präsenzunterricht\, Prüfung\, eine persönliche Online Nachbesprechung á 1 Stunde\, Zertifikat nach Abschluss der theoretischen und praktischen Prüfung.\n\nFür die theoretische Prüfung haben die Prüflinge nach der Präsenzausbildung 3 Wochen Zeit\, ihre Antworten einzureichen\, danach findet die persönliche Nachbesprechung statt.\n\nPraktische Prüfung: einmal eine Leitung einer Aufstellung in der Präsenzausbildung (mit Begleitung der Seminarleitung). 2 eigene Aufstellungstermine und 4 eigene Aufstellungen mit Protokoll\, dafür kann sich jeder 8 Monate Zeit nehmen. Vor Ablauf dieser Zeit\, sollten alle Absolventen die Protokolle der Aufstellungen\, an die bekannte Adresse geschickt haben.\n\nEin Aufstellungstag kann von den Absolventen organisiert werden. Es sollten mindestens 10 Teilnehmer sein\, mit 5 Aufstellungen und maximal 15 Teilnehmer. Die Ausbildungsleitung begleitet die erste Aufstellungsarbeit des Absolventen im Rahmen der Prüfungszeit von 8 Monaten.\nWer ohne Prüfung an der Ausbildung teilnehmen möchte\, erhält eine Teilnehmerbescheinigung nach Abschluss der 4 Präsenztage\, einschließlich der Nachbesprechung.\n\nMindestteilnehmerzahl: 8 Teilnehmer\n			\n				\n				\n				\n				\n				Bildungsprämie:\n			\n				\n				\n				\n				\n				Sie sind erwerbstätig und möchten sich beruflich fortbilden? Die Bildungsprämie kann Sie dabei unterstützen. Mit dem Prämiengutschein der Bildungsprämie übernimmt der Staat die Hälfte der anfallenden Kosten für Fortbildungskurse bis zu 500 €. Wie Sie den Prämiengutschein erhalten\, erfahren Sie unter Bildungspraemie.Die Bildungsprämie hilft dabei! Sie unterstützt erwerbstätige Frauen und Männer mit einem Einkommen bis 20.000 € (40.000 € bei gemeinsam Veranlagten) mit dem Prämiengutschein – oder dem Bildungssparen. Bei der Berechnung des zu versteuernden Einkommens werden Kinderfreibeträge berücksichtigt. Lassen Sie sich über Ihre Möglichkeiten in einer der bundesweit vorhandenen Beratungsstellen in Deutschland beraten. Adressen über die oben genannte Webseite.\n			\n				\n				\n				\n				\n				Datenschutzrechtliche Einwilligungserklärung:\nDie Erhebung\, Speicherung und Verwendung (z.B. für die Ladung zu Mitgliederversammlungen) obiger Daten ist für die funktionale Wirksamkeit der Verwaltung des Vereins unumgänglich. Mit nachfolgender Unterschrift willigen Sie in freier Entscheidung ein\, dass der Verein die obigen persönlichen Daten von Ihnen erheben\, speichern und dem Vereinszweck und der Vereinssatzung entsprechend verwenden darf.
URL:https://ngev.org/event/systemaufstellung-und-familienstellen-ausbildung-mellinghausen-bremen/
LOCATION:Eulenhof Mellinghausen\, Klitzenburger Str. 6\, Mellinghausen\, 27249\, Deutschland
CATEGORIES:Aufstellungsarbeit
ORGANIZER;CN="Nat%C3%BCrlich Gesund e.V.":MAILTO:info@ngev.org
END:VEVENT
END:VCALENDAR