BEGIN:VCALENDAR
VERSION:2.0
PRODID:-//Natuerlich Gesund e.V. - ECPv6.15.20//NONSGML v1.0//EN
CALSCALE:GREGORIAN
METHOD:PUBLISH
X-WR-CALNAME:Natuerlich Gesund e.V.
X-ORIGINAL-URL:https://ngev.org
X-WR-CALDESC:Veranstaltungen für Natuerlich Gesund e.V.
REFRESH-INTERVAL;VALUE=DURATION:PT1H
X-Robots-Tag:noindex
X-PUBLISHED-TTL:PT1H
BEGIN:VTIMEZONE
TZID:UTC
BEGIN:STANDARD
TZOFFSETFROM:+0000
TZOFFSETTO:+0000
TZNAME:UTC
DTSTART:20230101T000000
END:STANDARD
END:VTIMEZONE
BEGIN:VEVENT
DTSTART;TZID=UTC:20241026T090000
DTEND;TZID=UTC:20241027T160000
DTSTAMP:20260423T030020
CREATED:20231112T101739Z
LAST-MODIFIED:20240807T152518Z
UID:273597-1729933200-1730044800@ngev.org
SUMMARY:Meridian-Behandlung – Ausbildung - Ebern/Bamberg
DESCRIPTION:zurück\n			\n			\n				\n				\n				\n				\n			\n				\n				\n				\n				\n				\n				\n				\n				\n				\n				\n				In nur 2 Tagen die 14 Haupt-Meridiane im Verlauf erlernen. \n			\n				\n				\n				\n				\n				Ausgleich im Leben finden\, durch die Balance der Meridiane. Fühle eine sofortige Wirkung\, sobald deine Energien richtig fließen\, auch werden wir Blockaden beseitigen und Narben entstören. \n\nWir werden aneinander praktizieren\, so dass du später auch an deinen Kunden arbeiten kannst. Für dich lernst du die Selbsthilfeübung dazu. \n			\n			\n				\n				\n				\n				\n				\n				\n				\n				\n				\n				\n			\n			\n				\n				\n				\n				\n			\n				\n				\n				\n				\n				\n				\n				\n				\n				\n				\n				\n			\n				\n				\n				\n				\n				Referenten:\nJoachim Wohlfeil\, Laura Auel und Team\n			\n				\n				\n				\n				\n				Kosten:\nPreis: 250\,- €\, inkl. einen Meridian-Stab\, ausführliche Seminarunterlagen und ein Zertifikat\n \nZeit:   Samstag\, 09.00 – 18.30 Uhr und Sonntag\, 09.00 – 16.00 Uhr\nMindestteilnehmerzahl: 8 Teilnehmer\n			\n				\n				\n				\n				\n				Wir freuen uns auf deine Anmeldung. \n			\n				\n				\n				\n				\n				Datenschutzrechtliche Einwilligungserklärung:\nDie Erhebung\, Speicherung und Verwendung obiger Daten ist für die funktionale Wirksamkeit der Verwaltung des Vereins unumgänglich. Mit nachfolgender Unterschrift willigen Sie in freier Entscheidung ein\, dass der Verein die obigen persönlichen Daten von Ihnen erheben\, speichern und dem Vereinszweck und der Vereinssatzung entsprechend verwenden darf.
URL:https://ngev.org/event/meridian-behandlung-ausbildung-ebern-bamberg/
LOCATION:Ebern/Bamberg\, Ebern / Bamberg\, Unterfranken\, 96106
CATEGORIES:Meridian-Ausbildung
ORGANIZER;CN="Nat%C3%BCrlich Gesund e.V.":MAILTO:info@ngev.org
END:VEVENT
END:VCALENDAR