BEGIN:VCALENDAR
VERSION:2.0
PRODID:-//Natuerlich Gesund e.V. - ECPv6.15.20//NONSGML v1.0//EN
CALSCALE:GREGORIAN
METHOD:PUBLISH
X-ORIGINAL-URL:https://ngev.org
X-WR-CALDESC:Veranstaltungen für Natuerlich Gesund e.V.
REFRESH-INTERVAL;VALUE=DURATION:PT1H
X-Robots-Tag:noindex
X-PUBLISHED-TTL:PT1H
BEGIN:VTIMEZONE
TZID:UTC
BEGIN:STANDARD
TZOFFSETFROM:+0000
TZOFFSETTO:+0000
TZNAME:UTC
DTSTART:20240101T000000
END:STANDARD
END:VTIMEZONE
BEGIN:VEVENT
DTSTART;TZID=UTC:20251105T190000
DTEND;TZID=UTC:20251105T203000
DTSTAMP:20260419T230416
CREATED:20250923T071749Z
LAST-MODIFIED:20250923T072313Z
UID:277222-1762369200-1762374600@ngev.org
SUMMARY:Webinar 05.11.2025
DESCRIPTION:zurück\n			\n			\n				\n				\n				\n				\n			\n				\n				\n				\n				\n				\n				\n				\n				\n				\n				\n				Die Webinare finden immer von\n19-20.30 Uhr statt.\nSie können sich zu dem gegebenen Termin einfach anmelden\nund wir schicken Ihnen die Zugangsdaten für das Webinar zu.\nAll unsere Webinare sind kostenlos.\n			\n			\n				\n				\n				\n				\n				\n			\n				\n				\n				\n				\n				\n				\n				\n				\n				\n				\n			\n				\n				\n				\n				\n				\n				\n				\n					Joachim Wohlfeil\n				\n			\n			\n				\n				\n				\n				\n			\n				\n				\n				\n				\n				\n				\n				\n				\n				\n				\n				Webinar 05.11.2025\n			\n				\n				\n				\n				\n				Webinar mit Heiko Schuler mit dem Thema:\nVorsorgen für das Alter – Goldbasierte Betriebsrente.\n			\n			\n				\n				\n				\n				\n			\n				\n				\n				\n				\n				\n				\n				\n				\n				\n				\n				\n			\n				\n				\n				\n				\n				Referenten:\nHeiko Schuler\,\n			\n				\n				\n				\n				\n				Gerne können Sie mit uns Kontakt aufnehmen.\n			\n				\n				\n				\n				\n				Datenschutzrechtliche Einwilligungserklärung:\nDie Erhebung\, Speicherung und Verwendung (z.B. für die Ladung zu Mitgliederversammlungen) obiger Daten ist für die funktionale Wirksamkeit der Verwaltung des Vereins unumgänglich. Mit nachfolgender Unterschrift willigen Sie in freier Entscheidung ein\, dass der Verein die obigen persönlichen Daten von Ihnen erheben\, speichern und dem Vereinszweck und der Vereinssatzung entsprechend verwenden darf.
URL:https://ngev.org/event/webinar-05-11-2025-2/
LOCATION:Online
CATEGORIES:Webinar
ORGANIZER;CN="Nat%C3%BCrlich Gesund e.V.":MAILTO:info@ngev.org
END:VEVENT
END:VCALENDAR