BEGIN:VCALENDAR
VERSION:2.0
PRODID:-//Natuerlich Gesund e.V. - ECPv6.15.20//NONSGML v1.0//EN
CALSCALE:GREGORIAN
METHOD:PUBLISH
X-ORIGINAL-URL:https://ngev.org
X-WR-CALDESC:Veranstaltungen für Natuerlich Gesund e.V.
REFRESH-INTERVAL;VALUE=DURATION:PT1H
X-Robots-Tag:noindex
X-PUBLISHED-TTL:PT1H
BEGIN:VTIMEZONE
TZID:UTC
BEGIN:STANDARD
TZOFFSETFROM:+0000
TZOFFSETTO:+0000
TZNAME:UTC
DTSTART:20250101T000000
END:STANDARD
END:VTIMEZONE
BEGIN:VEVENT
DTSTART;VALUE=DATE:20260321
DTEND;VALUE=DATE:20260324
DTSTAMP:20260419T153138
CREATED:20260313T090210Z
LAST-MODIFIED:20260313T090218Z
UID:278142-1774051200-1774310399@ngev.org
SUMMARY:Healing Touch for Animals - Level 1 Kurs
DESCRIPTION:zurück\n			\n			\n				\n				\n				\n				\n			\n				\n				\n				\n				\n				\n				\n				\n				\n				\n				\n				Healing Touch for Animals – Level 1 Kurs\n			\n				\n				\n				\n				\n				Ausbildung zum HTA-Praktiker\n			\n				\n				\n				\n				\n				Der 2 ½tägige Level 1 Kurs von Healing Touch for Animals® (HTA) richtet sich an alle\, die das Leben ihrer eigenen oder anderer Tiere durch Energietherapie zu verbessern wollen. Durch theoretisches Wissen und praktische Erfahrungen in der Arbeit mit Hunden und Pferden werden Sie darauf vorbereitet\, die Konzepte und Anwendungsweisen von HTA an Klein- und Großtieren selbst praktizieren zu können.\n			\n			\n				\n				\n				\n				\n				\n				\n				\n				\n				\n				\n			\n			\n				\n				\n				\n				\n			\n				\n				\n				\n				\n				\n				\n				\n				\n				\n				\n				\n			\n			\n				\n				\n				\n				\n			\n				\n				\n				\n				\n				\n				\n				\n				\n				\n				\n				Datum:\n			\n			\n				\n				\n				\n				\n				\n			\n				\n				\n				\n				\n				\n				\n				\n				\n				\n				Kosten:\n			\n			\n				\n				\n				\n				\n			\n				\n				\n				\n				\n				\n				\n				\n				\n				\n				\n				21.03.2026\n13:00 – 18:00 Uhr\n			\n			\n				\n				\n				\n				\n				\n				\n				\n				\n				\n				22.- 23.03.2026\n09:00 – 18:00 Uhr\n			\n			\n				\n				\n				\n				\n				\n				\n				\n				\n				\n				Info / Anmeldung\n(hier klicken)\n			\n			\n				\n				\n				\n				\n			\n				\n				\n				\n				\n				\n				\n				\n				\n				\n				\n				\n			\n			\n				\n				\n				\n				\n			\n				\n				\n				\n				\n				\n				\n				\n				\n				\n				\n				Adresse: \n			\n				\n				\n				\n				\n				21. -22.03.2026\n\nGasthof Zum Altschütz\nVerdistraße 43\,\n85591 Vaterstetten\n			\n			\n				\n				\n				\n				\n				\n				\n				\n				\n				\n				Adresse: \n			\n				\n				\n				\n				\n				23.03.2026\nReitsberger Hof\nBaldhamer Straße 99\,85591 Vaterstetten\n			\n			\n				\n				\n				\n				\n			\n				\n				\n				\n				\n				\n				\n				\n				\n				\n				\n				\n			\n			\n				\n				\n				\n				\n			\n				\n				\n				\n				\n				\n				\n				\n				\n				\n				\n				Dozent/in:\n			\n				\n				\n				\n				\n				Bonetti\, Marilena \n			\n			\n				\n				\n				\n				\n				\n				\n				\n				\n				\n				\n			\n			\n				\n				\n				\n				\n			\n				\n				\n				\n				\n				\n				\n				\n				\n				\n				\n				\n			\n				\n				\n				\n				\n				Datenschutzrechtliche Einwilligungserklärung:\nDie Erhebung\, Speicherung und Verwendung obiger Daten ist für die funktionale Wirksamkeit der Verwaltung des Vereins unumgänglich. Mit nachfolgender Unterschrift willigen Sie in freier Entscheidung ein\, dass der Verein die obigen persönlichen Daten von Ihnen erheben\, speichern und dem Vereinszweck und der Vereinssatzung entsprechend verwenden darf.
URL:https://ngev.org/event/healing-touch-for-animals-level-1-kurs/
LOCATION:85591 Vaterstetten\, Verdistraße 43\, Vaterstetten
CATEGORIES:Mitglieder/Freunde
ATTACH;FMTTYPE=image/jpeg:https://ngev.org/wp-content/uploads/2026/03/logo01.jpg
END:VEVENT
END:VCALENDAR