BEGIN:VCALENDAR
VERSION:2.0
PRODID:-//Natuerlich Gesund e.V. - ECPv6.15.20//NONSGML v1.0//EN
CALSCALE:GREGORIAN
METHOD:PUBLISH
X-WR-CALNAME:Natuerlich Gesund e.V.
X-ORIGINAL-URL:https://ngev.org
X-WR-CALDESC:Veranstaltungen für Natuerlich Gesund e.V.
REFRESH-INTERVAL;VALUE=DURATION:PT1H
X-Robots-Tag:noindex
X-PUBLISHED-TTL:PT1H
BEGIN:VTIMEZONE
TZID:UTC
BEGIN:STANDARD
TZOFFSETFROM:+0000
TZOFFSETTO:+0000
TZNAME:UTC
DTSTART:20250101T000000
END:STANDARD
END:VTIMEZONE
BEGIN:VEVENT
DTSTART;VALUE=DATE:20260515
DTEND;VALUE=DATE:20260516
DTSTAMP:20260419T152350
CREATED:20251102T092824Z
LAST-MODIFIED:20251229T111815Z
UID:277694-1778803200-1778889599@ngev.org
SUMMARY:Ausbildung nach Heinrich Zeeden- 15.05.2026
DESCRIPTION:zurück\n			\n			\n				\n				\n				\n				\n			\n				\n				\n				\n				\n				\n				\n				\n				\n				\n				\n				Ausbildung zur Arbeit von Dr. Zeeden\n			\n				\n				\n				\n				\n				Eine Behandlung nach Dr. med. Zeeden\, kann als eigene Behandlungsmethode ausgeführt\, oder in die Impulsbehandlungen oder andere Techniken eingebaut werden.\nFolgender Ablauf der Behandlung\, der in dieser Ausbildung gelehrt wird:\n\nBesprechung des Behandlungsanliegens und Festlegung des Behandlungszieles\nMuskeltest: Ursachen/Belastungen erkennen\nWahl des Mittels\nEingeben mit dem Stirnstrich\nÜberprüfung der Wirksamkeit\nAustesten des optimalen Heilmittels\nFestlegen der Selbstbehandlung\n\nÜber seine Behandlungsmetode spricht Dr. med. Zeeden in einigen Videos auf YouTube. Oder man findet viele Beschreibungen und Anregungen in seinen Büchern\, zum Beispiel: „Repetitorium der Homöo-Kinesiologie“ oder „Bewährte Indikationen der Homöo-Kinesiologie“. Zu beziehen per E‑Mail info@ctv‑verlag.de oder über die Webseite des Verlages. DVDs von Dr. Zeeden können direkt über seine Webseite bezogen werden https://www.h-zeeden.de/DVD-Script/. \nZum Beispiel: Homöo – Kinesiologie\, 3 ½ Std.\, 2 DVD\, 45 Euro.\n			\n			\n				\n				\n				\n				\n				\n				\n				\n				\n				\n				\n			\n			\n				\n				\n				\n				\n			\n				\n				\n				\n				\n				\n				\n				\n				\n				\n				\n				Referenten:\nJoachim Wohlfeil\, Laura Auel und Team\n			\n				\n				\n				\n				\n				\n			\n				\n				\n				\n				\n				Wir freuen uns auf deine Anmeldung. \n			\n				\n				\n				\n				\n				Datenschutzrechtliche Einwilligungserklärung:\nDie Erhebung\, Speicherung und Verwendung obiger Daten ist für die funktionale Wirksamkeit der Verwaltung des Vereins unumgänglich. Mit nachfolgender Unterschrift willigen Sie in freier Entscheidung ein\, dass der Verein die obigen persönlichen Daten von Ihnen erheben\, speichern und dem Vereinszweck und der Vereinssatzung entsprechend verwenden darf.
URL:https://ngev.org/event/ausbildung-nach-heinrich-zeeden-15-05-2026/
LOCATION:Eulenhof Mellinghausen\, Klitzenburger Str. 6\, Mellinghausen\, 27249\, Deutschland
CATEGORIES:Special Event
ORGANIZER;CN="Nat%C3%BCrlich Gesund e.V.":MAILTO:info@ngev.org
END:VEVENT
END:VCALENDAR