BEGIN:VCALENDAR
VERSION:2.0
PRODID:-//Natuerlich Gesund e.V. - ECPv6.15.20//NONSGML v1.0//EN
CALSCALE:GREGORIAN
METHOD:PUBLISH
X-WR-CALNAME:Natuerlich Gesund e.V.
X-ORIGINAL-URL:https://ngev.org
X-WR-CALDESC:Veranstaltungen für Natuerlich Gesund e.V.
REFRESH-INTERVAL;VALUE=DURATION:PT1H
X-Robots-Tag:noindex
X-PUBLISHED-TTL:PT1H
BEGIN:VTIMEZONE
TZID:UTC
BEGIN:STANDARD
TZOFFSETFROM:+0000
TZOFFSETTO:+0000
TZNAME:UTC
DTSTART:20250101T000000
END:STANDARD
END:VTIMEZONE
BEGIN:VEVENT
DTSTART;TZID=UTC:20260520T180000
DTEND;TZID=UTC:20260520T203000
DTSTAMP:20260419T152339
CREATED:20251102T093546Z
LAST-MODIFIED:20251102T093552Z
UID:277701-1779300000-1779309000@ngev.org
SUMMARY:KoMit – Kollegentreffen und Infotreffen | Mellinghausen/Bremen
DESCRIPTION:zurück\n			\n			\n				\n				\n				\n				\n			\n				\n				\n				\n				\n				\n				\n				\n				\n				\n				\n				Informationen und Austausch für alle interessierte!\n			\n				\n				\n				\n				\n				In diesem Treffen werden wir viele Neuigkeiten besprechen und uns austauschen. Wir freuen uns auf jeden der Mitmachen möchte. \n			\n				\n				\n				\n				\n				Ort: Eulenhof Mellinghausen\nZeit: 18:00 – 20:30 Uhr\noffenes Treffen für alle Gesundheitsinteressierte\, Familie und Bekannte
URL:https://ngev.org/event/komit-kollegentreffen-und-infotreffen-mellinghausen-bremen-3/
LOCATION:Eulenhof Mellinghausen\, Klitzenburger Str. 6\, Mellinghausen\, 27249\, Deutschland
CATEGORIES:Info-Treffen
ORGANIZER;CN="Nat%C3%BCrlich Gesund e.V.":MAILTO:info@ngev.org
END:VEVENT
END:VCALENDAR