BEGIN:VCALENDAR
VERSION:2.0
PRODID:-//Natuerlich Gesund e.V. - ECPv6.15.20//NONSGML v1.0//EN
CALSCALE:GREGORIAN
METHOD:PUBLISH
X-ORIGINAL-URL:https://ngev.org
X-WR-CALDESC:Veranstaltungen für Natuerlich Gesund e.V.
REFRESH-INTERVAL;VALUE=DURATION:PT1H
X-Robots-Tag:noindex
X-PUBLISHED-TTL:PT1H
BEGIN:VTIMEZONE
TZID:UTC
BEGIN:STANDARD
TZOFFSETFROM:+0000
TZOFFSETTO:+0000
TZNAME:UTC
DTSTART:20250101T000000
END:STANDARD
END:VTIMEZONE
BEGIN:VEVENT
DTSTART;TZID=UTC:20261118T190000
DTEND;TZID=UTC:20261118T203000
DTSTAMP:20260420T020518
CREATED:20251105T075600Z
LAST-MODIFIED:20251105T075759Z
UID:277784-1795028400-1795033800@ngev.org
SUMMARY:Webinar 18.11.2026
DESCRIPTION:zurück\n			\n			\n				\n				\n				\n				\n			\n				\n				\n				\n				\n				\n				\n				\n				\n				\n				\n				Die Webinare finden immer von\n19-20.30 Uhr statt.\nSie können sich zu dem gegebenen Termin einfach anmelden\nund wir schicken Ihnen die Zugangsdaten für das Webinar zu.\nAll unsere Webinare sind kostenlos.\n			\n			\n				\n				\n				\n				\n				\n				\n				\n				\n				\n				\n			\n				\n				\n				\n				\n				\n				\n				\n					Laura Auel\n				\n			\n			\n				\n				\n				\n				\n				\n				\n				\n				\n				\n				\n			\n				\n				\n				\n				\n				\n				\n				\n					Joachim Wohlfeil\n				\n			\n			\n				\n				\n				\n				\n			\n				\n				\n				\n				\n				\n				\n				\n				\n				\n				\n				Webinar 18.11.2026 \n			\n				\n				\n				\n				\n				Entgiftung und Entschlackung\nMit einer kurzen Einleitung\, was Schlacken sind und wie sie entstehen\, gehen wir gleich in die praktische Anwendung über. Heute erklären wir dir\, wie wir „MeineBase“ richtig verwenden und wie bedeutungsvoll das „schrubben“ in der Wanne ist. Auch zeigen wir dir in einfachen Schritten wie Nackenwickel und die Strümpfe für die Beine angelegt werden. Zudem gehen wir mit Beispielen durch\, für wie lange eine Entgiftung und Entschlackung\, bei welchen Erkrankungen nötig ist.\n			\n			\n				\n				\n				\n				\n			\n				\n				\n				\n				\n				\n				\n				\n				\n				\n				\n				\n			\n				\n				\n				\n				\n				Referenten:\nLaura Auel\, Joachim Wohlfeil und Team\n			\n				\n				\n				\n				\n				Gerne können Sie mit uns Kontakt aufnehmen.\n			\n				\n				\n				\n				\n				Datenschutzrechtliche Einwilligungserklärung:\nDie Erhebung\, Speicherung und Verwendung (z.B. für die Ladung zu Mitgliederversammlungen) obiger Daten ist für die funktionale Wirksamkeit der Verwaltung des Vereins unumgänglich. Mit nachfolgender Unterschrift willigen Sie in freier Entscheidung ein\, dass der Verein die obigen persönlichen Daten von Ihnen erheben\, speichern und dem Vereinszweck und der Vereinssatzung entsprechend verwenden darf.
URL:https://ngev.org/event/gesundheitsberater-impulsbehandler-und-massagepraktiker-ausbildung-mellinghausen-bremen-3/
LOCATION:Online
CATEGORIES:Webinar
ORGANIZER;CN="Nat%C3%BCrlich Gesund e.V.":MAILTO:info@ngev.org
END:VEVENT
END:VCALENDAR