BEGIN:VCALENDAR
VERSION:2.0
PRODID:-//Natuerlich Gesund e.V. - ECPv6.15.20//NONSGML v1.0//EN
CALSCALE:GREGORIAN
METHOD:PUBLISH
X-ORIGINAL-URL:https://ngev.org
X-WR-CALDESC:Veranstaltungen für Natuerlich Gesund e.V.
REFRESH-INTERVAL;VALUE=DURATION:PT1H
X-Robots-Tag:noindex
X-PUBLISHED-TTL:PT1H
BEGIN:VTIMEZONE
TZID:UTC
BEGIN:STANDARD
TZOFFSETFROM:+0000
TZOFFSETTO:+0000
TZNAME:UTC
DTSTART:20240101T000000
END:STANDARD
END:VTIMEZONE
BEGIN:VEVENT
DTSTART;VALUE=DATE:20250226
DTEND;VALUE=DATE:20250303
DTSTAMP:20260422T175400
CREATED:20240917T061953Z
LAST-MODIFIED:20241121T121804Z
UID:275457-1740528000-1740959999@ngev.org
SUMMARY:Gesundheitsberater\, Impulsbehandler und Massagepraktiker – Ausbildung – Dresden
DESCRIPTION:zurück\n			\n			\n				\n				\n				\n				\n			\n				\n				\n				\n				\n				\n				\n				\n				\n				\n				\n				Der sanfte Weg mit äußerst wirksamen manuellen und energetischen Behandlungsweisen\, die gut mit anderen Methoden kombinierbar ist. \nDie Ausbildung ermöglicht den Einstieg in die Gesundheitsarbeit oder ist eine Erweiterung des eignen Tätigkeitsspektrums. Behandlungen in eigener Praxis\, in Zusammenarbeit mit anderen Kollegen oder in Wellnesseinrichtungen sind rechtssicher und erfolgreich möglich. \n			\n				\n				\n				\n				\n				Die Ausbildung besteht aus einem Fernstudium von 3 Monaten und beinhaltet eine fünf tägige Präsenzausbildung. Nach bestandener praktischer Prüfung schließen Sie mit einem Zertifikat ab.\n			\n			\n				\n				\n				\n				\n				\n				\n				\n				\n				\n				\n			\n			\n				\n				\n				\n				\n			\n				\n				\n				\n				\n				\n				\n				\n				\n				\n				\n				\n			\n				\n				\n				\n				\n				Wesentliche Ausbildungsinhalte\n			\n				\n				\n				\n				\n				Umfangreiche Ausbildungsunterlagen\, theoretischer und praktischer Unterricht\n3 monatiges Fernstudium: Lehrbriefe\, -videos\, Webinare\, Überprüfungsfragen\nZusatzmaterial in der Präsenz-Ausbildung\nSanfte Impuls Methoden\, DORN-Massage\nKinesiologische Testung\, Trauma- und Konfliktbehandlung\nSelbsthilfeübungen und Meridianausgleich\nSchlafplatzoptimierung\nBreuß – Energiemassage\, zum Lösen verspannter Muskulatur\nSchmerzgedächtnis löschen\nSpiralmuskeltraining nach Dr. med. Smisek\nRechtskunde\, Berufskunde\, Versicherungen\, Selbstständigkeit und Werbung\nWissen über Gesundheit durch Entschlackung und Entgiftung\nEnergetische Behandlungstechniken\, Herdsuche und Narbenentstörung\nEnergieausgleich\, Tiefenentspannung\nSilva-Mind Methode\nGrundlagen der Ernährung\nHonigmassage und Ayurvedamassage\nAbschlusszeremonie und Einführung in den neuen Beruf\n			\n				\n				\n				\n				\n				Bei Interesse erhalten Sie einen Einblick in unsere Ausbildungsunterlagen vor Ihrer Anmeldung. Nach der Anmeldung beginnt das begleitende Fernstudium. Die Buchung ist immer mit Fernstudium und Präsenz-Ausbildung. Bei Fragen können Sie uns jederzeit erreichen.\n			\n				\n				\n				\n				\n				Referenten:\nTim und Lydia\n			\n				\n				\n				\n				\n				Bildungsprämie:\n			\n				\n				\n				\n				\n				Die Bildungsprämie ist ausgelaufen. Wie und wann es eventuell weitergeht\, erfahren Sie unter http://www.bildungspraemie.info\nIn manchen Bundesländern laufen aber Programme mit ähnlichen Zuschüssen weiter. Eine gute Übersicht ist zu finden unter: link zur Übersicht\n			\n				\n				\n				\n				\n				Datenschutzrechtliche Einwilligungserklärung:\nDie Erhebung\, Speicherung und Verwendung obiger Daten ist für die funktionale Wirksamkeit der Verwaltung des Vereins unumgänglich. Mit nachfolgender Unterschrift willigen Sie in freier Entscheidung ein\, dass der Verein die obigen persönlichen Daten von Ihnen erheben\, speichern und dem Vereinszweck und der Vereinssatzung entsprechend verwenden darf.
URL:https://ngev.org/event/gesundheitsberater-impulsbehandler-und-massagepraktiker-ausbildung-dresden-3/
LOCATION:Dresden | Adresse auf Anfrage
CATEGORIES:Gesundheitsberater
ORGANIZER;CN="Nat%C3%BCrlich Gesund e.V.":MAILTO:info@ngev.org
END:VEVENT
BEGIN:VEVENT
DTSTART;TZID=UTC:20250313T190000
DTEND;TZID=UTC:20250313T203000
DTSTAMP:20260422T175400
CREATED:20240819T064554Z
LAST-MODIFIED:20240819T070412Z
UID:275241-1741892400-1741897800@ngev.org
SUMMARY:Webinar 13.03.2025
DESCRIPTION:zurück\n			\n			\n				\n				\n				\n				\n			\n				\n				\n				\n				\n				\n				\n				\n				\n				\n				\n				Die Webinare finden immer von\n19-20.30 Uhr statt.\nSie können sich zu dem gegebenen Termin einfach anmelden\nund wir schicken Ihnen die Zugangsdaten für das Webinar zu.\nAll unsere Webinare sind kostenlos.\n			\n			\n				\n				\n				\n				\n				\n				\n				\n				\n				\n				\n			\n				\n				\n				\n				\n				\n				\n				\n					Laura Auel\n				\n			\n			\n				\n				\n				\n				\n				\n				\n				\n				\n				\n				\n			\n				\n				\n				\n				\n				\n				\n				\n					Joachim Wohlfeil\n				\n			\n			\n				\n				\n				\n				\n			\n				\n				\n				\n				\n				\n				\n				\n				\n				\n				\n				Webinar 13.03.2025 \n			\n				\n				\n				\n				\n				Warum das Familienstellen für unsere Arbeit wichtig ist.\n			\n			\n				\n				\n				\n				\n			\n				\n				\n				\n				\n				\n				\n				\n				\n				\n				\n				\n			\n				\n				\n				\n				\n				Referenten:\nLaura Auel\, Joachim Wohlfeil und Team\n			\n				\n				\n				\n				\n				Gerne können Sie mit uns Kontakt aufnehmen.\n			\n				\n				\n				\n				\n				Datenschutzrechtliche Einwilligungserklärung:\nDie Erhebung\, Speicherung und Verwendung (z.B. für die Ladung zu Mitgliederversammlungen) obiger Daten ist für die funktionale Wirksamkeit der Verwaltung des Vereins unumgänglich. Mit nachfolgender Unterschrift willigen Sie in freier Entscheidung ein\, dass der Verein die obigen persönlichen Daten von Ihnen erheben\, speichern und dem Vereinszweck und der Vereinssatzung entsprechend verwenden darf.
URL:https://ngev.org/event/webinar-13-03-2025/
LOCATION:Online
CATEGORIES:Webinar
ORGANIZER;CN="Nat%C3%BCrlich Gesund e.V.":MAILTO:info@ngev.org
END:VEVENT
BEGIN:VEVENT
DTSTART;TZID=UTC:20250329T140000
DTEND;TZID=UTC:20250329T200000
DTSTAMP:20260422T175400
CREATED:20240820T080334Z
LAST-MODIFIED:20240822T053109Z
UID:275336-1743256800-1743278400@ngev.org
SUMMARY:Familienaufstellung – Aufstellungsnachmittag - Mellinghausen/Bremen
DESCRIPTION:zurück\n			\n			\n				\n				\n				\n				\n			\n				\n				\n				\n				\n				\n				\n				\n				\n				\n				\n				Die Familienaufstellungen gehen auf Bert Hellinger zurück und haben im Laufe der Jahre eine breite Anerkennung in unterschiedlichen Bereichen erfahren. Unsere Familie ist ein lebendiges System. Sie prägt unsere Entwicklung und damit auch unsere privaten und beruflichen Beziehungen. Wenn wir uns mit einem Baum vergleichen würden\, so wären unsere Kinder die Früchte und unsere Großeltern die Wurzeln\, deswegen spricht man von einem Stammbaum. „Zwei Dinge sollen Kinder von ihren Eltern bekommen: Wurzeln und Flügel.“ – J. W. von Goethe.\n			\n				\n				\n				\n				\n				Aufstellungsleiterin: Laura Auel\n			\n			\n				\n				\n				\n				\n				\n			\n				\n				\n				\n				\n			\n				\n				\n				\n				\n				\n				\n				\n				\n				\n				\n				\n			\n				\n				\n				\n				\n				Ausbildung Systemaufstellung\n			\n				\n				\n				\n				\n				\n\nUhrzeit: 14.00 – 20.00 Uhr\n\n\nMindestteilnehmerzahl: : 10 Teilnehmer\n\n\nPreis: : Stellvertreter 55\,00 €\n\n\nPreis: Aufsteller 150\,00 €\n\n\n			\n				\n				\n				\n				\n				Bitte gebe in deiner Anmeldung (Nur Interesse – Feld) an\, ob Du als Stellvertreter teilnimmst\noder mit deinem Thema aufgestellt werden möchtest.\nSolltest Du Fragen haben\, kannst du um Rückruf beten\, die Aufstellungsleiterin wird Dich in den nächsten Tagen anrufen. \n			\n				\n				\n				\n				\n				Datenschutzrechtliche Einwilligungserklärung:\nDie Erhebung\, Speicherung und Verwendung (z.B. für die Ladung zu Mitgliederversammlungen) obiger Daten ist für die funktionale Wirksamkeit der Verwaltung des Vereins unumgänglich. Mit nachfolgender Unterschrift willigen Sie in freier Entscheidung ein\, dass der Verein die obigen persönlichen Daten von Ihnen erheben\, speichern und dem Vereinszweck und der Vereinssatzung entsprechend verwenden darf.
URL:https://ngev.org/event/familienaufstellung-aufstellungsnachmittag-mellinghausen-bremen-2/
LOCATION:Eulenhof Mellinghausen\, Klitzenburger Str. 6\, Mellinghausen\, 27249\, Deutschland
CATEGORIES:Aufstellungsarbeit
ORGANIZER;CN="Nat%C3%BCrlich Gesund e.V.":MAILTO:info@ngev.org
END:VEVENT
BEGIN:VEVENT
DTSTART;TZID=UTC:20250330T090000
DTEND;TZID=UTC:20250330T150000
DTSTAMP:20260422T175400
CREATED:20240820T070058Z
LAST-MODIFIED:20240822T053454Z
UID:275303-1743325200-1743346800@ngev.org
SUMMARY:Emotionen und Bewusstsein  Fortbildung 30.03.2025
DESCRIPTION:zurück\n			\n			\n				\n				\n				\n				\n			\n				\n				\n				\n				\n				\n				\n				\n				\n				\n				\n				Emotionen lösen\, Kinesiologische Testung\nund Emotion Code \n			\n				\n				\n				\n				\n				Emotionalen Ballast loswerden\, damit das Leben glücklicher\, leichter und gesünder wird.Jeder Mensch hat Ereignisse\, Erfahrungen\, Situationen und Umstände aus der Vergangenheit erlebt\, die im Körper als „Blockaden“ abgespeichert werden. Mit dem EMOTION CODE und eine Ergänzung der Arbeit durch weitere Listen\, können die Blockaden einfach gefunden\, gelöst und umprogrammiert werden.Das Ergebnis sind Erleichterung und viele Verbesserungen für Körper\, Geist und Seele.In seinem Buch „Der Emotionscode“ hat Dr. Bradley Nelson die Methode ausführlich beschrieben. Die belastenden Emotionen werden mit dem kinesiologischen Muskeltest gefunden und durch einfache Behandlungen umprogrammiert. Die Methode wird gut und sicher praktisch erlernt und kann im Alltag oder in der Praxis erfolgreich eingesetzt werden.\n			\n			\n				\n				\n				\n				\n				\n				\n				\n				\n				\n				\n			\n			\n				\n				\n				\n				\n			\n				\n				\n				\n				\n				\n				\n				\n				\n				\n				\n				Referenten:\nJoachim Wohlfeil\, Laura Auel und Team\n			\n				\n				\n				\n				\n				\n			\n				\n				\n				\n				\n				Mitbringen: Schreibsachen und wenn vorhanden einen Notenständer\nKosten:\nPreis: 130\,- €\, inkl. Unterlagen\, Magnet und Teilnahmebescheinigung\nUhrzeit: 09.00 – 15.00 Uhr\nMindestteilnehmerzahl: 10 Teilnehmer\n			\n				\n				\n				\n				\n				Wir freuen uns auf deine Anmeldung. \n			\n				\n				\n				\n				\n				Datenschutzrechtliche Einwilligungserklärung:\nDie Erhebung\, Speicherung und Verwendung obiger Daten ist für die funktionale Wirksamkeit der Verwaltung des Vereins unumgänglich. Mit nachfolgender Unterschrift willigen Sie in freier Entscheidung ein\, dass der Verein die obigen persönlichen Daten von Ihnen erheben\, speichern und dem Vereinszweck und der Vereinssatzung entsprechend verwenden darf.
URL:https://ngev.org/event/emotionen-und-bewusstsein-fortbildung-30-03-2025/
LOCATION:Eulenhof Mellinghausen\, Klitzenburger Str. 6\, Mellinghausen\, 27249\, Deutschland
CATEGORIES:Emotionen
ORGANIZER;CN="Nat%C3%BCrlich Gesund e.V.":MAILTO:info@ngev.org
END:VEVENT
END:VCALENDAR