BEGIN:VCALENDAR
VERSION:2.0
PRODID:-//Natuerlich Gesund e.V. - ECPv6.15.20//NONSGML v1.0//EN
CALSCALE:GREGORIAN
METHOD:PUBLISH
X-ORIGINAL-URL:https://ngev.org
X-WR-CALDESC:Veranstaltungen für Natuerlich Gesund e.V.
REFRESH-INTERVAL;VALUE=DURATION:PT1H
X-Robots-Tag:noindex
X-PUBLISHED-TTL:PT1H
BEGIN:VTIMEZONE
TZID:UTC
BEGIN:STANDARD
TZOFFSETFROM:+0000
TZOFFSETTO:+0000
TZNAME:UTC
DTSTART:20240101T000000
END:STANDARD
END:VTIMEZONE
BEGIN:VEVENT
DTSTART;VALUE=DATE:20250403
DTEND;VALUE=DATE:20250407
DTSTAMP:20260422T141210
CREATED:20240820T073108Z
LAST-MODIFIED:20240820T073113Z
UID:275321-1743638400-1743983999@ngev.org
SUMMARY:Systemaufstellung und Familienstellen – Ausbildung – Mellinghausen
DESCRIPTION:zurück\n			\n			\n				\n				\n				\n				\n			\n				\n				\n				\n				\n				\n				\n				\n				\n				\n				\n				Die Familienaufstellungen gehen auf Bert Hellinger zurück und haben im Laufe der Jahre eine breite Anerkennung in unterschiedlichen Bereichen erfahren. Unsere Familie ist ein lebendiges System. Sie prägt unsere Entwicklung und damit auch unsere privaten und beruflichen Beziehungen. Wenn wir uns mit einem Baum vergleichen würden\, so wären unsere Kinder die Früchte und unsere Großeltern die Wurzeln\, deswegen spricht man von einem Stammbaum. „Zwei Dinge sollen Kinder von ihren Eltern bekommen: Wurzeln und Flügel.“ – J. W. von Goethe.\n			\n			\n				\n				\n				\n				\n				\n			\n				\n				\n				\n				\n			\n				\n				\n				\n				\n				\n				\n				\n				\n				\n				\n				In der systemischen Arbeit schauen wir auf die Hintergründe\, die zur derzeitigen Situation geführt haben\, um die Zusammenhänge zu erkennen und neue Lösungswege zu finden. Scheinbar unlösbare Lebenssituationen wie: psychosomatische Beschwerden\, Blockaden\, Ängste oder belastende Berufs- und Familiensituationen und vieles andere mehr.\n			\n				\n				\n				\n				\n				Die eigentliche tiefe Ursache liegt im Menschen selbst und kann auch nur dort gelöst werden. Die persönliche Problematik kann in der Regel einer familiären Dynamik zugeordnet werden. Selbst erlebte oder in der Familie vorgefallene traumatische Konflikte sind ursächlich. Dies trifft auch auf andere chronische Leiden zu\, die aus schulmedizinischer Sicht zwar behandelt aber nicht geheilt werden können.\n\nEin Kind ist durch seine genetische Abstammung und die übernommenen Einstellungen und Verhaltensweisen wie seine Eltern. Die Ausgeschlossenen oder die Verachteten werden früher oder später von einem Mitglied der Familie vertreten\, ohne dass dieser das weiß. Man übernimmt die Rolle des anderen. So lebt man zwei Leben. Oder wie Goethe sagte: “Zwei Seelen wohnen\, ach! in meine Brust”. Wir können dieses Gefühl in uns spüren. „Das bin ich doch gar nicht. Das gehört nicht zu mir.“ In diesen Fällen kann eine Aufstellung der entscheidende Schritt sein. Unsere praktischen und energetischen Behandlungsmethoden werden so optimal ergänzt.\n			\n				\n				\n				\n				\n				Das Ziel von Systemischen Aufstellungen und der Ausbildung\n			\n				\n				\n				\n				\n				Wir glauben oft\, dass die Liebe alles heilen kann. Doch wir erleben\, dass das nicht stimmt. Eltern erfahren\, dass Kinder sich trotz ihrer Liebe ganz anders entwickeln. Kinder werden krank\, süchtig oder sie bringen sich um\, obwohl die Eltern ihnen ihre ganze Liebe geschenkt haben. Damit die Liebe gelingt braucht es also noch etwas. Es braucht das Wissen und die Anerkennung der Ordnung\, in der die Liebe bleibt\, sich entwickelt und gedeiht. Die Ordnung ist das Gefäß und die Liebe der Inhalt\, ohne Gefäß kann die Liebe nicht bleiben. Um das in seiner ganzen Tiefe zu begreifen\, sind Familien-Aufstellen der beste Weg.\n\nFamilien-Aufstellungen werden in der Gruppe mit lebenden Stellvertretern gelehrt und geübt. Eine Familienaufstellung mit Figuren hat ihren eigenen Ablauf\, der hier auch gelehrt wird. Wenn z.B. in der konkreten Behandlungssituation keine Gruppe zur Verfügung steht\, können wir auch mit Figuren aufstellen. Es ist verblüffend\, dass sich die Familiendynamiken über eine Figurenaufstellung genauso präzise zeigen\, wie mit Stellvertretern in einer Gruppe. Jeder Teilnehmer erarbeitet ein Genogramm der Familienmitglieder als Vorbereitung. Das Ziel ist Schritt für Schritt frei zu werden\, wieder Liebe anzunehmen\, weiterzugeben und sich von familiären Verstrickungen zu lösen. Die Erkenntnisse aus den Aufstellungen werden im Alltag zu gelebter Liebe.\n			\n			\n				\n				\n				\n				\n			\n				\n				\n				\n				\n				\n				\n				\n				\n				\n				\n				\n			\n				\n				\n				\n				\n				Ausbildung Systemaufstellung\n			\n				\n				\n				\n				\n				Es geht …\n\n\num das Wissen und den Hintergrund bei Aufstellungen.\num die Verbesserung des Erfolgs unserer Arbeit.\num die Lösung eigener Probleme.\num die Vorgehensweise bei Systemaufstellungen.\num das Genogramm und die persönliche Biografie.\num Gegenwarts- und Herkunftsfamilie.\num Verstrickungen.\num das Finden von Lösungssätzen.\num die Leitung von Gruppen- und Einzelaufstellungen.\n\n\n			\n				\n				\n				\n				\n				Ausbildungsunterlagen werden vor der Ausbildung zur Vorbereitung an die Teilnehmer geschickt und folgende Bücher sollten gelesen werden: Zweierlei Glück\, Gunthard Weber\, ISBN 978-3-89670-585-3 &Trauma\, Bindungen und Familienstellen – Seelische Verletzungen verstehen und heilen\, Franz Ruppert\, ISBN 3-608-89742-9\n\n			\n				\n				\n				\n				\n				Referenten:\nJoachim Wohlfeil\, Laura Auel und Team\n			\n				\n				\n				\n				\n				Kosten:\n			\n				\n				\n				\n				\n				Kosten:\n			\n				\n				\n				\n				\n				1.200\,00 Euro\, inkl. ausführliche Ausbildungsunterlagen mit Lösungssätzen\, ein vorgegebenes Webinar zum gemeinsamen erarbeiten des eigenen Genogramms\, 4 Tage Präsenzunterricht\, Prüfung\, eine persönliche Online Nachbesprechung á 1 Stunde\, Zertifikat nach Abschluss der theoretischen und praktischen Prüfung.\n\nFür die theoretische Prüfung haben die Prüflinge nach der Präsenzausbildung 3 Wochen Zeit\, ihre Antworten einzureichen\, danach findet die persönliche Nachbesprechung statt. \n\nPraktische Prüfung: einmal eine Leitung einer Aufstellung in der Präsenzausbildung (mit Begleitung der Seminarleitung). 2 eigene Aufstellungstermine und 4 eigene Aufstellungen mit Protokoll\, dafür kann sich jeder 8 Monate Zeit nehmen. Vor Ablauf dieser Zeit\, sollten alle Absolventen die Protokolle der Aufstellungen\, an die bekannte Adresse geschickt haben.  \n\nEin Aufstellungstag kann von den Absolventen organisiert werden. Es sollten mindestens 10 Teilnehmer sein\, mit 5 Aufstellungen und maximal 15 Teilnehmer. Die Ausbildungsleitung begleitet die erste Aufstellungsarbeit des Absolventen im Rahmen der Prüfungszeit von 8 Monaten.\n\nWer ohne Prüfung an der Ausbildung teilnehmen möchte\, erhält eine Teilnehmerbescheinigung nach Abschluss der 4 Präsenztage\, einschließlich der Nachbesprechung. \n\nMindestteilnehmerzahl: 8 Teilnehmer\n			\n				\n				\n				\n				\n				Bildungsprämie:\n			\n				\n				\n				\n				\n				Sie sind erwerbstätig und möchten sich beruflich fortbilden? Die Bildungsprämie kann Sie dabei unterstützen. Mit dem Prämiengutschein der Bildungsprämie übernimmt der Staat die Hälfte der anfallenden Kosten für Fortbildungskurse bis zu 500 €. Wie Sie den Prämiengutschein erhalten\, erfahren Sie unter Bildungspraemie.\nDie Bildungsprämie hilft dabei! Sie unterstützt erwerbstätige Frauen und Männer mit einem Einkommen bis 20.000 € (40.000 € bei gemeinsam Veranlagten) mit dem Prämiengutschein – oder dem Bildungssparen. Bei der Berechnung des zu versteuernden Einkommens werden Kinderfreibeträge berücksichtigt. Lassen Sie sich über Ihre Möglichkeiten in einer der bundesweit vorhandenen Beratungsstellen in Deutschland beraten. Adressen über die oben genannte Webseite.\n			\n				\n				\n				\n				\n				Datenschutzrechtliche Einwilligungserklärung:\nDie Erhebung\, Speicherung und Verwendung (z.B. für die Ladung zu Mitgliederversammlungen) obiger Daten ist für die funktionale Wirksamkeit der Verwaltung des Vereins unumgänglich. Mit nachfolgender Unterschrift willigen Sie in freier Entscheidung ein\, dass der Verein die obigen persönlichen Daten von Ihnen erheben\, speichern und dem Vereinszweck und der Vereinssatzung entsprechend verwenden darf.
URL:https://ngev.org/event/systemaufstellung-und-familienstellen-ausbildung-mellinghausen/
LOCATION:Eulenhof Mellinghausen\, Klitzenburger Str. 6\, Mellinghausen\, 27249\, Deutschland
CATEGORIES:Aufstellungsarbeit
ORGANIZER;CN="Nat%C3%BCrlich Gesund e.V.":MAILTO:info@ngev.org
END:VEVENT
BEGIN:VEVENT
DTSTART;TZID=UTC:20250410T190000
DTEND;TZID=UTC:20250410T203000
DTSTAMP:20260422T141210
CREATED:20240819T065255Z
LAST-MODIFIED:20240819T070526Z
UID:275252-1744311600-1744317000@ngev.org
SUMMARY:Webinar 10.04.2025
DESCRIPTION:zurück\n			\n			\n				\n				\n				\n				\n			\n				\n				\n				\n				\n				\n				\n				\n				\n				\n				\n				Die Webinare finden immer von\n19-20.30 Uhr statt.\nSie können sich zu dem gegebenen Termin einfach anmelden\nund wir schicken Ihnen die Zugangsdaten für das Webinar zu.\nAll unsere Webinare sind kostenlos.\n			\n			\n				\n				\n				\n				\n				\n				\n				\n				\n				\n				\n			\n				\n				\n				\n				\n				\n				\n				\n					Laura Auel\n				\n			\n			\n				\n				\n				\n				\n				\n				\n				\n				\n				\n				\n			\n				\n				\n				\n				\n				\n				\n				\n					Joachim Wohlfeil\n				\n			\n			\n				\n				\n				\n				\n			\n				\n				\n				\n				\n				\n				\n				\n				\n				\n				\n				Webinar 10.04.2025 \n			\n				\n				\n				\n				\n				Behandlung vom Nacken-Halsbereich im Sitzen\nLaura zeigt dir\, wie du am besten den Hals behandeln kannst. Wer gleich mitmachen möchte\, braucht dazu etwas Öl\, ein Essstäbchen\, wenn vorhanden: BitterLust\, WandelDich\, Schutzgeist. Jeder kann bei sich selbst arbeiten oder nimmt eine zweite Person dazu.\n			\n			\n				\n				\n				\n				\n			\n				\n				\n				\n				\n				\n				\n				\n				\n				\n				\n				\n			\n				\n				\n				\n				\n				Referenten:\nLaura Auel\, Joachim Wohlfeil und Team\n			\n				\n				\n				\n				\n				Gerne können Sie mit uns Kontakt aufnehmen.\n			\n				\n				\n				\n				\n				Datenschutzrechtliche Einwilligungserklärung:\nDie Erhebung\, Speicherung und Verwendung (z.B. für die Ladung zu Mitgliederversammlungen) obiger Daten ist für die funktionale Wirksamkeit der Verwaltung des Vereins unumgänglich. Mit nachfolgender Unterschrift willigen Sie in freier Entscheidung ein\, dass der Verein die obigen persönlichen Daten von Ihnen erheben\, speichern und dem Vereinszweck und der Vereinssatzung entsprechend verwenden darf.
URL:https://ngev.org/event/webinar-10-04-2025/
LOCATION:Online
CATEGORIES:Webinar
END:VEVENT
BEGIN:VEVENT
DTSTART;TZID=UTC:20250412T110000
DTEND;TZID=UTC:20250412T190000
DTSTAMP:20260422T141210
CREATED:20240822T062233Z
LAST-MODIFIED:20240822T062359Z
UID:275427-1744455600-1744484400@ngev.org
SUMMARY:Silva Mind Seminar Fortbildung  12.04.2025
DESCRIPTION:zurück\n			\n			\n				\n				\n				\n				\n			\n				\n				\n				\n				\n				\n				\n				\n				\n				\n				\n				Tiefenentspannung\, Verbesserung aller Fähigkeiten\, erfolgreicher werden \n			\n				\n				\n				\n				\n				Die Silva-Mind Methode wird in über 70 Ländern gelehrt\, um auf die Alpha-Stufe zu gelangen und bessere Ergebnisse zu erzielen\, bei allem\, was man tut. Entwickelt wurde sie von Jose Silva\, der 1914 in Texas geboren wurde. Obwohl er nie die Schule besuchte – lesen und schreiben lernte er von seinen Geschwistern – bildete er sich selbst in unterschiedlichen Bereichen fort.\n			\n				\n				\n				\n				\n				Wir zeigen dir\, wie du die Methode für dich selbst und andere einsetzen kannst.\n			\n			\n				\n				\n				\n				\n				\n				\n				\n				\n				\n				\n			\n			\n				\n				\n				\n				\n			\n				\n				\n				\n				\n				\n				\n				\n				\n				\n				\n				\n			\n				\n				\n				\n				\n				Referenten:\nJoachim Wohlfeil\, Laura Auel und Team\n			\n				\n				\n				\n				\n				Kosten:\nKosten: 140\,-€\, inkl. ausführliche Unterlagen und Teilnahmebestätigung\n \nUhrzeit: 11.00 – 19.00 Uhr\nMindestteilnehmerzahl: 10 Teilnehmer\n			\n				\n				\n				\n				\n				Wir freuen uns auf deine Anmeldung. \n			\n				\n				\n				\n				\n				Datenschutzrechtliche Einwilligungserklärung:\nDie Erhebung\, Speicherung und Verwendung obiger Daten ist für die funktionale Wirksamkeit der Verwaltung des Vereins unumgänglich. Mit nachfolgender Unterschrift willigen Sie in freier Entscheidung ein\, dass der Verein die obigen persönlichen Daten von Ihnen erheben\, speichern und dem Vereinszweck und der Vereinssatzung entsprechend verwenden darf.
URL:https://ngev.org/event/silva-mind-seminar-fortbildung-12-04-2025/
LOCATION:Geltendorf/Landsberg\, Bayern
CATEGORIES:Special Event
ORGANIZER;CN="Nat%C3%BCrlich Gesund e.V.":MAILTO:info@ngev.org
END:VEVENT
BEGIN:VEVENT
DTSTART;TZID=UTC:20250413T090000
DTEND;TZID=UTC:20250413T150000
DTSTAMP:20260422T141210
CREATED:20240820T065102Z
LAST-MODIFIED:20240822T053620Z
UID:275289-1744534800-1744556400@ngev.org
SUMMARY:Emotionen und Bewusstsein  Fortbildung 13.04.2025
DESCRIPTION:zurück\n			\n			\n				\n				\n				\n				\n			\n				\n				\n				\n				\n				\n				\n				\n				\n				\n				\n				Emotionen lösen\, Kinesiologische Testung\nund Emotion Code \n			\n				\n				\n				\n				\n				Emotionalen Ballast loswerden\, damit das Leben glücklicher\, leichter und gesünder wird.Jeder Mensch hat Ereignisse\, Erfahrungen\, Situationen und Umstände aus der Vergangenheit erlebt\, die im Körper als „Blockaden“ abgespeichert werden. Mit dem EMOTION CODE und eine Ergänzung der Arbeit durch weitere Listen\, können die Blockaden einfach gefunden\, gelöst und umprogrammiert werden.Das Ergebnis sind Erleichterung und viele Verbesserungen für Körper\, Geist und Seele.In seinem Buch „Der Emotionscode“ hat Dr. Bradley Nelson die Methode ausführlich beschrieben. Die belastenden Emotionen werden mit dem kinesiologischen Muskeltest gefunden und durch einfache Behandlungen umprogrammiert. Die Methode wird gut und sicher praktisch erlernt und kann im Alltag oder in der Praxis erfolgreich eingesetzt werden.\n			\n			\n				\n				\n				\n				\n				\n				\n				\n				\n				\n				\n			\n			\n				\n				\n				\n				\n			\n				\n				\n				\n				\n				\n				\n				\n				\n				\n				\n				Referenten:\nJoachim Wohlfeil\, Laura Auel und Team\n			\n				\n				\n				\n				\n				\n			\n				\n				\n				\n				\n				Mitbringen: Schreibsachen und wenn vorhanden einen Notenständer\nKosten:\nPreis: 130\,- €\, inkl. Unterlagen\, Magnet und Teilnahmebescheinigung\nUhrzeit: 09.00 – 15.00 Uhr\nMindestteilnehmerzahl: 10 Teilnehmer\n			\n				\n				\n				\n				\n				Wir freuen uns auf deine Anmeldung. \n			\n				\n				\n				\n				\n				Datenschutzrechtliche Einwilligungserklärung:\nDie Erhebung\, Speicherung und Verwendung obiger Daten ist für die funktionale Wirksamkeit der Verwaltung des Vereins unumgänglich. Mit nachfolgender Unterschrift willigen Sie in freier Entscheidung ein\, dass der Verein die obigen persönlichen Daten von Ihnen erheben\, speichern und dem Vereinszweck und der Vereinssatzung entsprechend verwenden darf.
URL:https://ngev.org/event/emotionen-und-bewusstsein-fortbildung-13-04-2025/
LOCATION:Geltendorf/Landsberg\, Bayern
CATEGORIES:Emotionen
ORGANIZER;CN="Nat%C3%BCrlich Gesund e.V.":MAILTO:info@ngev.org
END:VEVENT
BEGIN:VEVENT
DTSTART;TZID=UTC:20250418T140000
DTEND;TZID=UTC:20250418T180000
DTSTAMP:20260422T141210
CREATED:20240820T084557Z
LAST-MODIFIED:20240820T084601Z
UID:275384-1744984800-1744999200@ngev.org
SUMMARY:KoMit – Kollegentreffen und Infotreffen | Gräfelfing bei München
DESCRIPTION:zurück\n			\n			\n				\n				\n				\n				\n			\n				\n				\n				\n				\n				\n				\n				\n				\n				\n				\n				Informationen und Austausch für alle interessierte!\n			\n				\n				\n				\n				\n				In diesem Treffen werden wir viele Neuigkeiten besprechen und uns austauschen. Wir freuen uns auf jeden der Mitmachen möchte. \n			\n				\n				\n				\n				\n				Ort: Gräfelfing (Zentrum Licht-Gesundheit-Energie) \nZeit: 10:00 – 13:00 Uhr\nÜbungszeit und Wiederholung für Gesundheitsberater\, bitte bei Anmeldung mit angeben. \nZeit: 14:00 – 18:00 Uhr\noffenes Treffen für alle Gesundheitsinteressierte\, Familie und Bekannte
URL:https://ngev.org/event/komit-kollegentreffen-und-infotreffen-graefelfing-bei-muenchen/
LOCATION:Licht – Gesundheit – Energie Zentrum\, Drosselgasse 6\, Gräfelfing\, Bayern\, 82166\, Deutschland
CATEGORIES:Info-Treffen
ORGANIZER;CN="Nat%C3%BCrlich Gesund e.V.":MAILTO:info@ngev.org
END:VEVENT
BEGIN:VEVENT
DTSTART;VALUE=DATE:20250419
DTEND;VALUE=DATE:20250424
DTSTAMP:20260422T141210
CREATED:20240820T082837Z
LAST-MODIFIED:20241121T121742Z
UID:275364-1745020800-1745452799@ngev.org
SUMMARY:Gesundheitsberater\, Impulsbehandler und Massagepraktiker – Ausbildung – Gräfelfing/München
DESCRIPTION:zurück\n			\n			\n				\n				\n				\n				\n			\n				\n				\n				\n				\n				\n				\n				\n				\n				\n				\n				Der sanfte Weg mit äußerst wirksamen manuellen und energetischen Behandlungsweisen\, die gut mit anderen Methoden kombinierbar ist. \nDie Ausbildung ermöglicht den Einstieg in die Gesundheitsarbeit oder ist eine Erweiterung des eignen Tätigkeitsspektrums. Behandlungen in eigener Praxis\, in Zusammenarbeit mit anderen Kollegen oder in Wellnesseinrichtungen sind rechtssicher und erfolgreich möglich. \n			\n				\n				\n				\n				\n				Die Ausbildung besteht aus einem Fernstudium von 3 Monaten und beinhaltet eine fünf tägige Präsenzausbildung. Nach bestandener praktischer Prüfung schließen Sie mit einem Zertifikat ab.\n			\n			\n				\n				\n				\n				\n				\n				\n				\n				\n				\n				\n			\n			\n				\n				\n				\n				\n			\n				\n				\n				\n				\n				\n				\n				\n				\n				\n				\n				\n			\n				\n				\n				\n				\n				Wesentliche Ausbildungsinhalte\n			\n				\n				\n				\n				\n				Umfangreiche Ausbildungsunterlagen\, theoretischer und praktischer Unterricht\n3 monatiges Fernstudium: Lehrbriefe\, -videos\, Webinare\, Überprüfungsfragen\nZusatzmaterial in der Präsenz-Ausbildung\nSanfte Impuls Methoden\, DORN-Massage\nKinesiologische Testung\, Trauma- und Konfliktbehandlung\nSelbsthilfeübungen und Meridianausgleich\nSchlafplatzoptimierung\nBreuß – Energiemassage\, zum Lösen verspannter Muskulatur\nSchmerzgedächtnis löschen\nSpiralmuskeltraining nach Dr. med. Smisek\nRechtskunde\, Berufskunde\, Versicherungen\, Selbstständigkeit und Werbung\nWissen über Gesundheit durch Entschlackung und Entgiftung\nEnergetische Behandlungstechniken\, Herdsuche und Narbenentstörung\nEnergieausgleich\, Tiefenentspannung\nSilva-Mind Methode\nGrundlagen der Ernährung\nHonigmassage und Ayurvedamassage\nAbschlusszeremonie und Einführung in den neuen Beruf\n			\n				\n				\n				\n				\n				Bei Interesse erhalten Sie einen Einblick in unsere Ausbildungsunterlagen vor Ihrer Anmeldung. Nach der Anmeldung beginnt das begleitende Fernstudium. Die Buchung ist immer mit Fernstudium und Präsenz-Ausbildung. Bei Fragen können Sie uns jederzeit erreichen.\n			\n				\n				\n				\n				\n				Referenten:\nJoachim Wohlfeil\, Laura Auel und Team\n			\n				\n				\n				\n				\n				Bildungsprämie:\n			\n				\n				\n				\n				\n				Die Bildungsprämie ist ausgelaufen. Wie und wann es eventuell weitergeht\, erfahren Sie unter http://www.bildungspraemie.info\nIn manchen Bundesländern laufen aber Programme mit ähnlichen Zuschüssen weiter. Eine gute Übersicht ist zu finden unter: link zur Übersicht\n			\n				\n				\n				\n				\n				Datenschutzrechtliche Einwilligungserklärung:\nDie Erhebung\, Speicherung und Verwendung obiger Daten ist für die funktionale Wirksamkeit der Verwaltung des Vereins unumgänglich. Mit nachfolgender Unterschrift willigen Sie in freier Entscheidung ein\, dass der Verein die obigen persönlichen Daten von Ihnen erheben\, speichern und dem Vereinszweck und der Vereinssatzung entsprechend verwenden darf.
URL:https://ngev.org/event/gesundheitsberater-impulsbehandler-und-massagepraktiker-ausbildung-graefelfing-muenchen/
LOCATION:Licht – Gesundheit – Energie Zentrum\, Drosselgasse 6\, Gräfelfing\, Bayern\, 82166\, Deutschland
CATEGORIES:Gesundheitsberater
ORGANIZER;CN="Nat%C3%BCrlich Gesund e.V.":MAILTO:info@ngev.org
END:VEVENT
BEGIN:VEVENT
DTSTART;TZID=UTC:20250426T080000
DTEND;TZID=UTC:20250427T170000
DTSTAMP:20260422T141210
CREATED:20250317T064606Z
LAST-MODIFIED:20250317T065143Z
UID:276509-1745654400-1745773200@ngev.org
SUMMARY:Eine weiterentwickelte Heil-Massage
DESCRIPTION:zurück\n			\n			\n				\n				\n				\n				\n			\n				\n				\n				\n				\n				\n				\n				\n				\n				\n				\n				Eine weiterentwickelte Heil-Massage\n			\n				\n				\n				\n				\n				Der Weg zur Gesundheit über die Wirbelsäule\n			\n				\n				\n				\n				\n				Zusammenfassung der Hintergründe von Schmerzen und Bewegungseinschränkungen\, Arbeiten an Trigger-Punkten\, Behandlung der Wirbelsäule im Liegen\, Akupressur\, Akkupunktur\, dynamische Schröpfmassage\, neue Griffe für die Halswirbelsäule\, Erfahrungen und Tipps aus der Arbeit.\n			\n			\n				\n				\n				\n				\n				\n				\n				\n				\n				\n				\n			\n			\n				\n				\n				\n				\n			\n				\n				\n				\n				\n				\n				\n				\n				\n				\n				\n				\n			\n			\n				\n				\n				\n				\n			\n				\n				\n				\n				\n				\n				\n				\n				\n				\n				\n				Datum:\n			\n				\n				\n				\n				\n				26.04.2025 – 27.04.2025\n			\n			\n				\n				\n				\n				\n				\n				\n				\n				\n				\n				Kosten:\n			\n				\n				\n				\n				\n				250.00 €\n			\n			\n				\n				\n				\n				\n			\n				\n				\n				\n				\n				\n				\n				\n				\n				\n				\n				\n			\n				\n				\n				\n				\n				Adresse:\n			\n				\n				\n				\n				\n				Eichenstraße 7\n82269 Geltendorf\n			\n				\n				\n				\n				\n				\n			\n			\n				\n				\n				\n				\n			\n				\n				\n				\n				\n				\n				\n				\n				\n				\n				\n				Dozent/in:\n			\n				\n				\n				\n				\n				Kapinski\, Wojciech\n			\n			\n				\n				\n				\n				\n				\n				\n				\n				\n				\n				\n			\n			\n				\n				\n				\n				\n			\n				\n				\n				\n				\n				\n				\n				\n				\n				\n				\n				\n			\n				\n				\n				\n				\n				Anmeldung zur Veranstaltung:\nHier unten sind die Kontaktdaten des Veranstalters zu finden. Bitte für weiter Informationen und Anmeldungen mit dem Veranstalter direkt Kontakt aufnehmen.\n			\n				\n				\n				\n				\n				Datenschutzrechtliche Einwilligungserklärung:\nDie Erhebung\, Speicherung und Verwendung obiger Daten ist für die funktionale Wirksamkeit der Verwaltung des Vereins unumgänglich. Mit nachfolgender Unterschrift willigen Sie in freier Entscheidung ein\, dass der Verein die obigen persönlichen Daten von Ihnen erheben\, speichern und dem Vereinszweck und der Vereinssatzung entsprechend verwenden darf.
URL:https://ngev.org/event/eine-weiterentwickelte-heil-massage/
LOCATION:Eichenstraße 7\, 82269 Geltendorf
ATTACH;FMTTYPE=image/jpeg:https://ngev.org/wp-content/uploads/2025/03/Wojtek-1.jpg
ORGANIZER;CN="Centrum Dorna Akademii":MAILTO:ruckgrad2@o2.pl
END:VEVENT
END:VCALENDAR