BEGIN:VCALENDAR
VERSION:2.0
PRODID:-//Natuerlich Gesund e.V. - ECPv6.15.20//NONSGML v1.0//EN
CALSCALE:GREGORIAN
METHOD:PUBLISH
X-WR-CALNAME:Natuerlich Gesund e.V.
X-ORIGINAL-URL:https://ngev.org
X-WR-CALDESC:Veranstaltungen für Natuerlich Gesund e.V.
REFRESH-INTERVAL;VALUE=DURATION:PT1H
X-Robots-Tag:noindex
X-PUBLISHED-TTL:PT1H
BEGIN:VTIMEZONE
TZID:UTC
BEGIN:STANDARD
TZOFFSETFROM:+0000
TZOFFSETTO:+0000
TZNAME:UTC
DTSTART:20240101T000000
END:STANDARD
END:VTIMEZONE
BEGIN:VEVENT
DTSTART;VALUE=DATE:20251003
DTEND;VALUE=DATE:20251006
DTSTAMP:20260419T230436
CREATED:20240820T083640Z
LAST-MODIFIED:20241121T121603Z
UID:275371-1759449600-1759708799@ngev.org
SUMMARY:Gesundheitsberater\, Impulsbehandler und Massagepraktiker – Ausbildung – Bad Sulza Teil 1
DESCRIPTION:zurück\n			\n			\n				\n				\n				\n				\n			\n				\n				\n				\n				\n				\n				\n				\n				\n				\n				\n				Der sanfte Weg mit äußerst wirksamen manuellen und energetischen Behandlungsweisen\, die gut mit anderen Methoden kombinierbar ist. \nDie Ausbildung ermöglicht den Einstieg in die Gesundheitsarbeit oder ist eine Erweiterung des eignen Tätigkeitsspektrums. Behandlungen in eigener Praxis\, in Zusammenarbeit mit anderen Kollegen oder in Wellnesseinrichtungen sind rechtssicher und erfolgreich möglich. \n			\n				\n				\n				\n				\n				Die Ausbildung besteht aus einem Fernstudium von 3 Monaten und beinhaltet eine fünf tägige Präsenzausbildung. Nach bestandener praktischer Prüfung schließen Sie mit einem Zertifikat ab.\n			\n			\n				\n				\n				\n				\n				\n				\n				\n				\n				\n				\n			\n			\n				\n				\n				\n				\n			\n				\n				\n				\n				\n				\n				\n				\n				\n				\n				\n				\n			\n				\n				\n				\n				\n				Wesentliche Ausbildungsinhalte\n			\n				\n				\n				\n				\n				Umfangreiche Ausbildungsunterlagen\, theoretischer und praktischer Unterricht\n3 monatiges Fernstudium: Lehrbriefe\, -videos\, Webinare\, Überprüfungsfragen\nZusatzmaterial in der Präsenz-Ausbildung\nSanfte Impuls Methoden\, DORN-Massage\nKinesiologische Testung\, Trauma- und Konfliktbehandlung\nSelbsthilfeübungen und Meridianausgleich\nSchlafplatzoptimierung\nBreuß – Energiemassage\, zum Lösen verspannter Muskulatur\nSchmerzgedächtnis löschen\nSpiralmuskeltraining nach Dr. med. Smisek\nRechtskunde\, Berufskunde\, Versicherungen\, Selbstständigkeit und Werbung\nWissen über Gesundheit durch Entschlackung und Entgiftung\nEnergetische Behandlungstechniken\, Herdsuche und Narbenentstörung\nEnergieausgleich\, Tiefenentspannung\nSilva-Mind Methode\nGrundlagen der Ernährung\nHonigmassage und Ayurvedamassage\nAbschlusszeremonie und Einführung in den neuen Beruf\n			\n				\n				\n				\n				\n				Bei Interesse erhalten Sie einen Einblick in unsere Ausbildungsunterlagen vor Ihrer Anmeldung. Nach der Anmeldung beginnt das begleitende Fernstudium. Die Buchung ist immer mit Fernstudium und Präsenz-Ausbildung. Bei Fragen können Sie uns jederzeit erreichen.\n			\n				\n				\n				\n				\n				Referenten:\nJoachim Wohlfeil\, Laura Auel und Team\n			\n				\n				\n				\n				\n				Bildungsprämie:\n			\n				\n				\n				\n				\n				Die Bildungsprämie ist ausgelaufen. Wie und wann es eventuell weitergeht\, erfahren Sie unter http://www.bildungspraemie.info\nIn manchen Bundesländern laufen aber Programme mit ähnlichen Zuschüssen weiter. Eine gute Übersicht ist zu finden unter: link zur Übersicht\n			\n				\n				\n				\n				\n				Datenschutzrechtliche Einwilligungserklärung:\nDie Erhebung\, Speicherung und Verwendung obiger Daten ist für die funktionale Wirksamkeit der Verwaltung des Vereins unumgänglich. Mit nachfolgender Unterschrift willigen Sie in freier Entscheidung ein\, dass der Verein die obigen persönlichen Daten von Ihnen erheben\, speichern und dem Vereinszweck und der Vereinssatzung entsprechend verwenden darf.
URL:https://ngev.org/event/gesundheitsberater-impulsbehandler-und-massagepraktiker-ausbildung-bad-sulza/
LOCATION:Familienzentrum Bad Sulza\, In den Emsenwehren 2\, Bad Sulza\, 99518\, Deutschland
CATEGORIES:Gesundheitsberater
ORGANIZER;CN="Nat%C3%BCrlich Gesund e.V.":MAILTO:info@ngev.org
END:VEVENT
BEGIN:VEVENT
DTSTART;TZID=UTC:20251008T190000
DTEND;TZID=UTC:20251008T203000
DTSTAMP:20260419T230436
CREATED:20240819T073419Z
LAST-MODIFIED:20240819T073613Z
UID:275281-1759950000-1759955400@ngev.org
SUMMARY:Webinar 08.10.2025
DESCRIPTION:zurück\n			\n			\n				\n				\n				\n				\n			\n				\n				\n				\n				\n				\n				\n				\n				\n				\n				\n				Die Webinare finden immer von\n19-20.30 Uhr statt.\nSie können sich zu dem gegebenen Termin einfach anmelden\nund wir schicken Ihnen die Zugangsdaten für das Webinar zu.\nAll unsere Webinare sind kostenlos.\n			\n			\n				\n				\n				\n				\n				\n				\n				\n				\n				\n				\n			\n				\n				\n				\n				\n				\n				\n				\n					Laura Auel\n				\n			\n			\n				\n				\n				\n				\n				\n				\n				\n				\n				\n				\n			\n				\n				\n				\n				\n				\n				\n				\n					Joachim Wohlfeil\n				\n			\n			\n				\n				\n				\n				\n			\n				\n				\n				\n				\n				\n				\n				\n				\n				\n				\n				Webinar 08.10.2025 \n			\n				\n				\n				\n				\n				Teil 2 Dr. Hamer oder auch die 5 Biologischen Naturgesetze\nNach einer kleinen Einführung werden wir durch verschiedene Beispiele näher an das Thema kommen. Verstehen warum diese Erkrankungen so sind wie sie sind und wie die Lösung dazu aussieht.\n			\n			\n				\n				\n				\n				\n			\n				\n				\n				\n				\n				\n				\n				\n				\n				\n				\n				\n			\n				\n				\n				\n				\n				Referenten:\nLaura Auel\, Joachim Wohlfeil und Team\n			\n				\n				\n				\n				\n				Gerne können Sie mit uns Kontakt aufnehmen.\n			\n				\n				\n				\n				\n				Datenschutzrechtliche Einwilligungserklärung:\nDie Erhebung\, Speicherung und Verwendung (z.B. für die Ladung zu Mitgliederversammlungen) obiger Daten ist für die funktionale Wirksamkeit der Verwaltung des Vereins unumgänglich. Mit nachfolgender Unterschrift willigen Sie in freier Entscheidung ein\, dass der Verein die obigen persönlichen Daten von Ihnen erheben\, speichern und dem Vereinszweck und der Vereinssatzung entsprechend verwenden darf.
URL:https://ngev.org/event/webinar-08-10-2025/
LOCATION:Online
CATEGORIES:Webinar
ORGANIZER;CN="Nat%C3%BCrlich Gesund e.V.":MAILTO:info@ngev.org
END:VEVENT
BEGIN:VEVENT
DTSTART;VALUE=DATE:20251017
DTEND;VALUE=DATE:20251020
DTSTAMP:20260419T230436
CREATED:20240820T083901Z
LAST-MODIFIED:20241121T121435Z
UID:275375-1760659200-1760918399@ngev.org
SUMMARY:Gesundheitsberater\, Impulsbehandler und Massagepraktiker – Ausbildung – Bad Sulza Teil 2
DESCRIPTION:zurück\n			\n			\n				\n				\n				\n				\n			\n				\n				\n				\n				\n				\n				\n				\n				\n				\n				\n				Der sanfte Weg mit äußerst wirksamen manuellen und energetischen Behandlungsweisen\, die gut mit anderen Methoden kombinierbar ist. \nDie Ausbildung ermöglicht den Einstieg in die Gesundheitsarbeit oder ist eine Erweiterung des eignen Tätigkeitsspektrums. Behandlungen in eigener Praxis\, in Zusammenarbeit mit anderen Kollegen oder in Wellnesseinrichtungen sind rechtssicher und erfolgreich möglich. \n			\n				\n				\n				\n				\n				Die Ausbildung besteht aus einem Fernstudium von 3 Monaten und beinhaltet eine fünf tägige Präsenzausbildung. Nach bestandener praktischer Prüfung schließen Sie mit einem Zertifikat ab.\n			\n			\n				\n				\n				\n				\n				\n				\n				\n				\n				\n				\n			\n			\n				\n				\n				\n				\n			\n				\n				\n				\n				\n				\n				\n				\n				\n				\n				\n				\n			\n				\n				\n				\n				\n				Wesentliche Ausbildungsinhalte\n			\n				\n				\n				\n				\n				Umfangreiche Ausbildungsunterlagen\, theoretischer und praktischer Unterricht\n3 monatiges Fernstudium: Lehrbriefe\, -videos\, Webinare\, Überprüfungsfragen\nZusatzmaterial in der Präsenz-Ausbildung\nSanfte Impuls Methoden\, DORN-Massage\nKinesiologische Testung\, Trauma- und Konfliktbehandlung\nSelbsthilfeübungen und Meridianausgleich\nSchlafplatzoptimierung\nBreuß – Energiemassage\, zum Lösen verspannter Muskulatur\nSchmerzgedächtnis löschen\nSpiralmuskeltraining nach Dr. med. Smisek\nRechtskunde\, Berufskunde\, Versicherungen\, Selbstständigkeit und Werbung\nWissen über Gesundheit durch Entschlackung und Entgiftung\nEnergetische Behandlungstechniken\, Herdsuche und Narbenentstörung\nEnergieausgleich\, Tiefenentspannung\nSilva-Mind Methode\nGrundlagen der Ernährung\nHonigmassage und Ayurvedamassage\nAbschlusszeremonie und Einführung in den neuen Beruf\n			\n				\n				\n				\n				\n				Bei Interesse erhalten Sie einen Einblick in unsere Ausbildungsunterlagen vor Ihrer Anmeldung. Nach der Anmeldung beginnt das begleitende Fernstudium. Die Buchung ist immer mit Fernstudium und Präsenz-Ausbildung. Bei Fragen können Sie uns jederzeit erreichen.\n			\n				\n				\n				\n				\n				Referenten:\nJoachim Wohlfeil\, Laura Auel und Team\n			\n				\n				\n				\n				\n				Bildungsprämie:\n			\n				\n				\n				\n				\n				Die Bildungsprämie ist ausgelaufen. Wie und wann es eventuell weitergeht\, erfahren Sie unter http://www.bildungspraemie.info\nIn manchen Bundesländern laufen aber Programme mit ähnlichen Zuschüssen weiter. Eine gute Übersicht ist zu finden unter: link zur Übersicht\n			\n				\n				\n				\n				\n				Datenschutzrechtliche Einwilligungserklärung:\nDie Erhebung\, Speicherung und Verwendung obiger Daten ist für die funktionale Wirksamkeit der Verwaltung des Vereins unumgänglich. Mit nachfolgender Unterschrift willigen Sie in freier Entscheidung ein\, dass der Verein die obigen persönlichen Daten von Ihnen erheben\, speichern und dem Vereinszweck und der Vereinssatzung entsprechend verwenden darf.
URL:https://ngev.org/event/gesundheitsberater-impulsbehandler-und-massagepraktiker-ausbildung-bad-sulza-2/
LOCATION:Familienzentrum Bad Sulza\, In den Emsenwehren 2\, Bad Sulza\, 99518\, Deutschland
CATEGORIES:Gesundheitsberater
ORGANIZER;CN="Nat%C3%BCrlich Gesund e.V.":MAILTO:info@ngev.org
END:VEVENT
BEGIN:VEVENT
DTSTART;TZID=UTC:20251018T183000
DTEND;TZID=UTC:20251018T210000
DTSTAMP:20260419T230436
CREATED:20240820T085021Z
LAST-MODIFIED:20240822T060417Z
UID:275389-1760812200-1760821200@ngev.org
SUMMARY:KoMit – Kollegentreffen und Infotreffen | Bad Sulza
DESCRIPTION:zurück\n			\n			\n				\n				\n				\n				\n			\n				\n				\n				\n				\n				\n				\n				\n				\n				\n				\n				Informationen und Austausch für alle interessierte!\n			\n				\n				\n				\n				\n				In diesem Treffen werden wir viele Neuigkeiten besprechen und uns austauschen. Wir freuen uns auf jeden der Mitmachen möchte. \n			\n				\n				\n				\n				\n				Ort: Bad Sulza\nZeit: 18:30 – 21:00 Uhr\noffenes Treffen für alle Gesundheitsinteressierte\, Familie und Bekannte
URL:https://ngev.org/event/komit-kollegentreffen-und-infotreffen-bad-sulza/
LOCATION:Familienzentrum Bad Sulza\, In den Emsenwehren 2\, Bad Sulza\, 99518\, Deutschland
CATEGORIES:Info-Treffen
ORGANIZER;CN="Nat%C3%BCrlich Gesund e.V.":MAILTO:info@ngev.org
END:VEVENT
END:VCALENDAR