BEGIN:VCALENDAR
VERSION:2.0
PRODID:-//Natuerlich Gesund e.V. - ECPv6.15.20//NONSGML v1.0//EN
CALSCALE:GREGORIAN
METHOD:PUBLISH
X-ORIGINAL-URL:https://ngev.org
X-WR-CALDESC:Veranstaltungen für Natuerlich Gesund e.V.
REFRESH-INTERVAL;VALUE=DURATION:PT1H
X-Robots-Tag:noindex
X-PUBLISHED-TTL:PT1H
BEGIN:VTIMEZONE
TZID:UTC
BEGIN:STANDARD
TZOFFSETFROM:+0000
TZOFFSETTO:+0000
TZNAME:UTC
DTSTART:20250101T000000
END:STANDARD
END:VTIMEZONE
BEGIN:VEVENT
DTSTART;VALUE=DATE:20260110
DTEND;VALUE=DATE:20260111
DTSTAMP:20260419T172240
CREATED:20251217T101130Z
LAST-MODIFIED:20251229T105843Z
UID:277867-1768003200-1768089599@ngev.org
SUMMARY:Familienaufstellung – Aufstellungstag – Rastenberg
DESCRIPTION:zurück\n			\n			\n				\n				\n				\n				\n			\n				\n				\n				\n				\n				\n				\n				\n				\n				\n				\n				Die Familienaufstellungen gehen auf Bert Hellinger zurück und haben im Laufe der Jahre eine breite Anerkennung in unterschiedlichen Bereichen erfahren. Unsere Familie ist ein lebendiges System. Sie prägt unsere Entwicklung und damit auch unsere privaten und beruflichen Beziehungen. Wenn wir uns mit einem Baum vergleichen würden\, so wären unsere Kinder die Früchte und unsere Großeltern die Wurzeln\, deswegen spricht man von einem Stammbaum. „Zwei Dinge sollen Kinder von ihren Eltern bekommen: Wurzeln und Flügel.“– J. W. von Goethe.\n			\n			\n				\n				\n				\n				\n				\n			\n				\n				\n				\n				\n			\n				\n				\n				\n				\n				\n				\n				\n				\n				\n				\n				Systemaufstellung\n			\n				\n				\n				\n				\n				Referenten: Laura Auel\n			\n				\n				\n				\n				\n				\nBitte gebe in deiner Anmeldung (Nur Interesse – Feld) an\, ob Du als Stellvertreter teilnimmst\noder mit deinem Thema aufgestellt werden möchtest. \nSolltest Du Fragen haben\, kannst du auch um Rückruf beten.\n			\n				\n				\n				\n				\n				Kosten:\n			\n				\n				\n				\n				\n				Uhrzeit wird nach Anmeldung bekannt gegeben\nPreis: Stellvertreter 40\,00 €\nPreis: Aufsteller 150\,00 €\n			\n				\n				\n				\n				\n				Datenschutzrechtliche Einwilligungserklärung:\nDie Erhebung\, Speicherung und Verwendung (z.B. für die Ladung zu Mitgliederversammlungen) obiger Daten ist für die funktionale Wirksamkeit der Verwaltung des Vereins unumgänglich. Mit nachfolgender Unterschrift willigen Sie in freier Entscheidung ein\, dass der Verein die obigen persönlichen Daten von Ihnen erheben\, speichern und dem Vereinszweck und der Vereinssatzung entsprechend verwenden darf.
URL:https://ngev.org/event/familienaufstellung-aufstellungstag-rastenberg/
LOCATION:Rastenberg\, Niedertorstr. 6\, 99636 Rastenberg\, 99636\, Germany
CATEGORIES:System / Fam.Stellen
ORGANIZER;CN="Nat%C3%BCrlich Gesund e.V.":MAILTO:info@ngev.org
END:VEVENT
END:VCALENDAR