BEGIN:VCALENDAR
VERSION:2.0
PRODID:-//Natuerlich Gesund e.V. - ECPv6.15.20//NONSGML v1.0//EN
CALSCALE:GREGORIAN
METHOD:PUBLISH
X-WR-CALNAME:Natuerlich Gesund e.V.
X-ORIGINAL-URL:https://ngev.org
X-WR-CALDESC:Veranstaltungen für Natuerlich Gesund e.V.
REFRESH-INTERVAL;VALUE=DURATION:PT1H
X-Robots-Tag:noindex
X-PUBLISHED-TTL:PT1H
BEGIN:VTIMEZONE
TZID:UTC
BEGIN:STANDARD
TZOFFSETFROM:+0000
TZOFFSETTO:+0000
TZNAME:UTC
DTSTART:20250101T000000
END:STANDARD
END:VTIMEZONE
BEGIN:VEVENT
DTSTART;VALUE=DATE:20261001
DTEND;VALUE=DATE:20261005
DTSTAMP:20260419T222644
CREATED:20251229T101318Z
LAST-MODIFIED:20251229T101318Z
UID:277890-1790812800-1791158399@ngev.org
SUMMARY:Systemaufstellung und Familienstellen – Ausbildung – Geltendorf/Landsberg
DESCRIPTION:zurück\n			\n			\n				\n				\n				\n				\n			\n				\n				\n				\n				\n				\n				\n				\n				\n				\n				\n				Die Familienaufstellungen gehen auf Bert Hellinger zurück und haben im Laufe der Jahre eine breite Anerkennung in unterschiedlichen Bereichen erfahren. Unsere Familie ist ein lebendiges System. Sie prägt unsere Entwicklung und damit auch unsere privaten und beruflichen Beziehungen. Wenn wir uns mit einem Baum vergleichen würden\, so wären unsere Kinder die Früchte und unsere Großeltern die Wurzeln\, deswegen spricht man von einem Stammbaum. „Zwei Dinge sollen Kinder von ihren Eltern bekommen: Wurzeln und Flügel.“ – J. W. von Goethe.\n			\n			\n				\n				\n				\n				\n				\n			\n				\n				\n				\n				\n			\n				\n				\n				\n				\n				\n				\n				\n				\n				\n				\n				In der systemischen Arbeit schauen wir auf die Hintergründe\, die zur derzeitigen Situation geführt haben\, um die Zusammenhänge zu erkennen und neue Lösungswege zu finden. Scheinbar unlösbare Lebenssituationen wie: psychosomatische Beschwerden\, Blockaden\, Ängste oder belastende Berufs- und Familiensituationen und vieles andere mehr.\n			\n				\n				\n				\n				\n				Die eigentliche tiefe Ursache liegt im Menschen selbst und kann auch nur dort gelöst werden. Die persönliche Problematik kann in der Regel einer familiären Dynamik zugeordnet werden. Selbst erlebte oder in der Familie vorgefallene traumatische Konflikte sind ursächlich. Dies trifft auch auf andere chronische Leiden zu\, die aus schulmedizinischer Sicht zwar behandelt aber nicht geheilt werden können.\n\nEin Kind ist durch seine genetische Abstammung und die übernommenen Einstellungen und Verhaltensweisen wie seine Eltern. Die Ausgeschlossenen oder die Verachteten werden früher oder später von einem Mitglied der Familie vertreten\, ohne dass dieser das weiß. Man übernimmt die Rolle des anderen. So lebt man zwei Leben. Oder wie Goethe sagte: “Zwei Seelen wohnen\, ach! in meine Brust”. Wir können dieses Gefühl in uns spüren. „Das bin ich doch gar nicht. Das gehört nicht zu mir.“ In diesen Fällen kann eine Aufstellung der entscheidende Schritt sein. Unsere praktischen und energetischen Behandlungsmethoden werden so optimal ergänzt.\n			\n				\n				\n				\n				\n				Das Ziel von Systemischen Aufstellungen und der Ausbildung\n			\n				\n				\n				\n				\n				Wir glauben oft\, dass die Liebe alles heilen kann. Doch wir erleben\, dass das nicht stimmt. Eltern erfahren\, dass Kinder sich trotz ihrer Liebe ganz anders entwickeln. Kinder werden krank\, süchtig oder sie bringen sich um\, obwohl die Eltern ihnen ihre ganze Liebe geschenkt haben. Damit die Liebe gelingt braucht es also noch etwas. Es braucht das Wissen und die Anerkennung der Ordnung\, in der die Liebe bleibt\, sich entwickelt und gedeiht. Die Ordnung ist das Gefäß und die Liebe der Inhalt\, ohne Gefäß kann die Liebe nicht bleiben. Um das in seiner ganzen Tiefe zu begreifen\, sind Familien-Aufstellen der beste Weg.\n\nFamilien-Aufstellungen werden in der Gruppe mit lebenden Stellvertretern gelehrt und geübt. Eine Familienaufstellung mit Figuren hat ihren eigenen Ablauf\, der hier auch gelehrt wird. Wenn z.B. in der konkreten Behandlungssituation keine Gruppe zur Verfügung steht\, können wir auch mit Figuren aufstellen. Es ist verblüffend\, dass sich die Familiendynamiken über eine Figurenaufstellung genauso präzise zeigen\, wie mit Stellvertretern in einer Gruppe. Jeder Teilnehmer erarbeitet ein Genogramm der Familienmitglieder als Vorbereitung. Das Ziel ist Schritt für Schritt frei zu werden\, wieder Liebe anzunehmen\, weiterzugeben und sich von familiären Verstrickungen zu lösen. Die Erkenntnisse aus den Aufstellungen werden im Alltag zu gelebter Liebe.\n			\n			\n				\n				\n				\n				\n			\n				\n				\n				\n				\n				\n				\n				\n				\n				\n				\n				\n			\n				\n				\n				\n				\n				Ausbildung Systemaufstellung\n			\n				\n				\n				\n				\n				Es geht …\n\n\num das Wissen und den Hintergrund bei Aufstellungen.\num die Verbesserung des Erfolgs unserer Arbeit.\num die Lösung eigener Probleme.\num die Vorgehensweise bei Systemaufstellungen.\num das Genogramm und die persönliche Biografie.\num Gegenwarts- und Herkunftsfamilie.\num Verstrickungen.\num das Finden von Lösungssätzen.\num die Leitung von Gruppen- und Einzelaufstellungen.\n\n\n			\n				\n				\n				\n				\n				Ausbildungsunterlagen werden vor der Ausbildung zur Vorbereitung an die Teilnehmer geschickt und folgende Bücher sollten gelesen werden: Zweierlei Glück\, Gunthard Weber\, ISBN 978-3-89670-585-3 &Trauma\, Bindungen und Familienstellen – Seelische Verletzungen verstehen und heilen\, Franz Ruppert\, ISBN 3-608-89742-9\n\n			\n				\n				\n				\n				\n				Referenten:\nJoachim Wohlfeil\, Laura Auel und Team\n			\n				\n				\n				\n				\n				Kosten:\n			\n				\n				\n				\n				\n				ca. 1.200\,00 Euro\, inkl. ausführliche Ausbildungsunterlagen mit Lösungssätzen\, ein vorgegebenes Webinar (1-2 UE) zum gemeinsamen\n\nMindestteilnehmerzahl: 8 Teilnehmer\n			\n				\n				\n				\n				\n				Datenschutzrechtliche Einwilligungserklärung:\nDie Erhebung\, Speicherung und Verwendung (z.B. für die Ladung zu Mitgliederversammlungen) obiger Daten ist für die funktionale Wirksamkeit der Verwaltung des Vereins unumgänglich. Mit nachfolgender Unterschrift willigen Sie in freier Entscheidung ein\, dass der Verein die obigen persönlichen Daten von Ihnen erheben\, speichern und dem Vereinszweck und der Vereinssatzung entsprechend verwenden darf.
URL:https://ngev.org/event/systemaufstellung-und-familienstellen-ausbildung-geltendorf-landsberg-2/
LOCATION:Geltendorf/Landsberg\, Bayern
CATEGORIES:System / Fam.Stellen
ORGANIZER;CN="Nat%C3%BCrlich Gesund e.V.":MAILTO:info@ngev.org
END:VEVENT
BEGIN:VEVENT
DTSTART;VALUE=DATE:20261009
DTEND;VALUE=DATE:20261012
DTSTAMP:20260419T222645
CREATED:20251102T090350Z
LAST-MODIFIED:20251102T090357Z
UID:277675-1791504000-1791763199@ngev.org
SUMMARY:Gesundheitsberater\, Impulsbehandler und Massagepraktiker – Ausbildung – Bad Sulza Teil 1
DESCRIPTION:zurück\n			\n			\n				\n				\n				\n				\n			\n				\n				\n				\n				\n				\n				\n				\n				\n				\n				\n				Der sanfte Weg mit äußerst wirksamen manuellen und energetischen Behandlungsweisen\, die gut mit anderen Methoden kombinierbar ist. \nDie Ausbildung ermöglicht den Einstieg in die Gesundheitsarbeit oder ist eine Erweiterung des eignen Tätigkeitsspektrums. Behandlungen in eigener Praxis\, in Zusammenarbeit mit anderen Kollegen oder in Wellnesseinrichtungen sind rechtssicher und erfolgreich möglich. \n			\n				\n				\n				\n				\n				Die Ausbildung besteht aus einem Fernstudium von 3 Monaten und beinhaltet eine fünf tägige Präsenzausbildung. Nach bestandener praktischer Prüfung schließen Sie mit einem Zertifikat ab.\n			\n			\n				\n				\n				\n				\n				\n				\n				\n				\n				\n				\n			\n			\n				\n				\n				\n				\n			\n				\n				\n				\n				\n				\n				\n				\n				\n				\n				\n				\n			\n				\n				\n				\n				\n				Wesentliche Ausbildungsinhalte\n			\n				\n				\n				\n				\n				Umfangreiche Ausbildungsunterlagen\, theoretischer und praktischer Unterricht\n3 monatiges Fernstudium: Lehrbriefe\, -videos\, Webinare\, Überprüfungsfragen\nZusatzmaterial in der Präsenz-Ausbildung\nSanfte Impuls Methoden\, DORN-Massage\nKinesiologische Testung\, Trauma- und Konfliktbehandlung\nSelbsthilfeübungen und Meridianausgleich\nSchlafplatzoptimierung\nBreuß – Energiemassage\, zum Lösen verspannter Muskulatur\nSchmerzgedächtnis löschen\nSpiralmuskeltraining nach Dr. med. Smisek\nRechtskunde\, Berufskunde\, Versicherungen\, Selbstständigkeit und Werbung\nWissen über Gesundheit durch Entschlackung und Entgiftung\nEnergetische Behandlungstechniken\, Herdsuche und Narbenentstörung\nEnergieausgleich\, Tiefenentspannung\nSilva-Mind Methode\nGrundlagen der Ernährung\nHonigmassage und Ayurvedamassage\nAbschlusszeremonie und Einführung in den neuen Beruf\n			\n				\n				\n				\n				\n				Bei Interesse erhalten Sie einen Einblick in unsere Ausbildungsunterlagen vor Ihrer Anmeldung. Nach der Anmeldung beginnt das begleitende Fernstudium. Die Buchung ist immer mit Fernstudium und Präsenz-Ausbildung. Bei Fragen können Sie uns jederzeit erreichen.\n			\n				\n				\n				\n				\n				Referenten:\nJoachim Wohlfeil\, Laura Auel und Team\n			\n				\n				\n				\n				\n				Datenschutzrechtliche Einwilligungserklärung:\nDie Erhebung\, Speicherung und Verwendung obiger Daten ist für die funktionale Wirksamkeit der Verwaltung des Vereins unumgänglich. Mit nachfolgender Unterschrift willigen Sie in freier Entscheidung ein\, dass der Verein die obigen persönlichen Daten von Ihnen erheben\, speichern und dem Vereinszweck und der Vereinssatzung entsprechend verwenden darf.
URL:https://ngev.org/event/gesundheitsberater-impulsbehandler-und-massagepraktiker-ausbildung-bad-sulza-teil-1/
LOCATION:Familienzentrum Bad Sulza\, In den Emsenwehren 2\, Bad Sulza\, 99518\, Deutschland
CATEGORIES:Gesundheitsberater
ORGANIZER;CN="Nat%C3%BCrlich Gesund e.V.":MAILTO:info@ngev.org
END:VEVENT
BEGIN:VEVENT
DTSTART;TZID=UTC:20261010T180000
DTEND;TZID=UTC:20261010T203000
DTSTAMP:20260419T222645
CREATED:20251102T094317Z
LAST-MODIFIED:20251217T202122Z
UID:277711-1791655200-1791664200@ngev.org
SUMMARY:KoMit – Kollegentreffen und Infotreffen | Bad Sulza
DESCRIPTION:zurück\n			\n			\n				\n				\n				\n				\n			\n				\n				\n				\n				\n				\n				\n				\n				\n				\n				\n				Informationen und Austausch für alle interessierte!\n			\n				\n				\n				\n				\n				In diesem Treffen werden wir viele Neuigkeiten besprechen und uns austauschen. Wir freuen uns auf jeden der Mitmachen möchte. \n			\n				\n				\n				\n				\n				Ort: Familienzentrum Bad Sulza\nDatum: Oktober 10\, 2026\nZeit: 18:00 – 20:30 Uhr\noffenes Treffen für alle Gesundheitsinteressierte\, Familie und Bekannte
URL:https://ngev.org/event/komit-kollegentreffen-und-infotreffen-bad-sulza-2/
LOCATION:Familienzentrum Bad Sulza\, In den Emsenwehren 2\, Bad Sulza\, 99518\, Deutschland
CATEGORIES:Info-Treffen
ORGANIZER;CN="Nat%C3%BCrlich Gesund e.V.":MAILTO:info@ngev.org
END:VEVENT
BEGIN:VEVENT
DTSTART;TZID=UTC:20261015T190000
DTEND;TZID=UTC:20261015T203000
DTSTAMP:20260419T222645
CREATED:20251104T085710Z
LAST-MODIFIED:20251104T085717Z
UID:277751-1792090800-1792096200@ngev.org
SUMMARY:Webinar 15.10.2026
DESCRIPTION:zurück\n			\n			\n				\n				\n				\n				\n			\n				\n				\n				\n				\n				\n				\n				\n				\n				\n				\n				Die Webinare finden immer von\n19-20.30 Uhr statt.\nSie können sich zu dem gegebenen Termin einfach anmelden\nund wir schicken Ihnen die Zugangsdaten für das Webinar zu.\nAll unsere Webinare sind kostenlos.\n			\n			\n				\n				\n				\n				\n				\n				\n				\n				\n				\n				\n			\n				\n				\n				\n				\n				\n				\n				\n					Laura Auel\n				\n			\n			\n				\n				\n				\n				\n				\n				\n				\n				\n				\n				\n			\n				\n				\n				\n				\n				\n				\n				\n					Joachim Wohlfeil\n				\n			\n			\n				\n				\n				\n				\n			\n				\n				\n				\n				\n				\n				\n				\n				\n				\n				\n				Webinar 15.10.2026 \n			\n				\n				\n				\n				\n				„Gesunder Zucker“\nWas ist Zucker und wie wirkt er auf unseren Körper?\nWelche Schäden entstehen durch den Zucker/Kohlenhydrate? \nVon den Zähnen bis zu den Organen\, geben wir dir Bespiele an Erkrankungen aber auch welche Alternativen wir verwenden können\, um uns selbst mit einfachen Mitteln im Alltag zu unterstützen und wieder ganz gesund zu werden.\n\n			\n			\n				\n				\n				\n				\n			\n				\n				\n				\n				\n				\n				\n				\n				\n				\n				\n				\n			\n				\n				\n				\n				\n				Referenten:\nLaura Auel\, Joachim Wohlfeil und Team\n			\n				\n				\n				\n				\n				Gerne können Sie mit uns Kontakt aufnehmen.\n			\n				\n				\n				\n				\n				Datenschutzrechtliche Einwilligungserklärung:\nDie Erhebung\, Speicherung und Verwendung (z.B. für die Ladung zu Mitgliederversammlungen) obiger Daten ist für die funktionale Wirksamkeit der Verwaltung des Vereins unumgänglich. Mit nachfolgender Unterschrift willigen Sie in freier Entscheidung ein\, dass der Verein die obigen persönlichen Daten von Ihnen erheben\, speichern und dem Vereinszweck und der Vereinssatzung entsprechend verwenden darf.
URL:https://ngev.org/event/webinar-15-10-2026/
LOCATION:Online
CATEGORIES:Webinar
ORGANIZER;CN="Nat%C3%BCrlich Gesund e.V.":MAILTO:info@ngev.org
END:VEVENT
BEGIN:VEVENT
DTSTART;VALUE=DATE:20261016
DTEND;VALUE=DATE:20261019
DTSTAMP:20260419T222645
CREATED:20251102T090703Z
LAST-MODIFIED:20251102T090709Z
UID:277681-1792108800-1792367999@ngev.org
SUMMARY:Gesundheitsberater\, Impulsbehandler und Massagepraktiker – Ausbildung – Bad Sulza Teil 2
DESCRIPTION:zurück\n			\n			\n				\n				\n				\n				\n			\n				\n				\n				\n				\n				\n				\n				\n				\n				\n				\n				Der sanfte Weg mit äußerst wirksamen manuellen und energetischen Behandlungsweisen\, die gut mit anderen Methoden kombinierbar ist. \nDie Ausbildung ermöglicht den Einstieg in die Gesundheitsarbeit oder ist eine Erweiterung des eignen Tätigkeitsspektrums. Behandlungen in eigener Praxis\, in Zusammenarbeit mit anderen Kollegen oder in Wellnesseinrichtungen sind rechtssicher und erfolgreich möglich. \n			\n				\n				\n				\n				\n				Die Ausbildung besteht aus einem Fernstudium von 3 Monaten und beinhaltet eine fünf tägige Präsenzausbildung. Nach bestandener praktischer Prüfung schließen Sie mit einem Zertifikat ab.\n			\n			\n				\n				\n				\n				\n				\n				\n				\n				\n				\n				\n			\n			\n				\n				\n				\n				\n			\n				\n				\n				\n				\n				\n				\n				\n				\n				\n				\n				\n			\n				\n				\n				\n				\n				Wesentliche Ausbildungsinhalte\n			\n				\n				\n				\n				\n				Umfangreiche Ausbildungsunterlagen\, theoretischer und praktischer Unterricht\n3 monatiges Fernstudium: Lehrbriefe\, -videos\, Webinare\, Überprüfungsfragen\nZusatzmaterial in der Präsenz-Ausbildung\nSanfte Impuls Methoden\, DORN-Massage\nKinesiologische Testung\, Trauma- und Konfliktbehandlung\nSelbsthilfeübungen und Meridianausgleich\nSchlafplatzoptimierung\nBreuß – Energiemassage\, zum Lösen verspannter Muskulatur\nSchmerzgedächtnis löschen\nSpiralmuskeltraining nach Dr. med. Smisek\nRechtskunde\, Berufskunde\, Versicherungen\, Selbstständigkeit und Werbung\nWissen über Gesundheit durch Entschlackung und Entgiftung\nEnergetische Behandlungstechniken\, Herdsuche und Narbenentstörung\nEnergieausgleich\, Tiefenentspannung\nSilva-Mind Methode\nGrundlagen der Ernährung\nHonigmassage und Ayurvedamassage\nAbschlusszeremonie und Einführung in den neuen Beruf\n			\n				\n				\n				\n				\n				Bei Interesse erhalten Sie einen Einblick in unsere Ausbildungsunterlagen vor Ihrer Anmeldung. Nach der Anmeldung beginnt das begleitende Fernstudium. Die Buchung ist immer mit Fernstudium und Präsenz-Ausbildung. Bei Fragen können Sie uns jederzeit erreichen.\n			\n				\n				\n				\n				\n				Referenten:\nJoachim Wohlfeil\, Laura Auel und Team\n			\n				\n				\n				\n				\n				Datenschutzrechtliche Einwilligungserklärung:\nDie Erhebung\, Speicherung und Verwendung obiger Daten ist für die funktionale Wirksamkeit der Verwaltung des Vereins unumgänglich. Mit nachfolgender Unterschrift willigen Sie in freier Entscheidung ein\, dass der Verein die obigen persönlichen Daten von Ihnen erheben\, speichern und dem Vereinszweck und der Vereinssatzung entsprechend verwenden darf.
URL:https://ngev.org/event/gesundheitsberater-impulsbehandler-und-massagepraktiker-ausbildung-bad-sulza-teil-2/
LOCATION:Familienzentrum Bad Sulza\, In den Emsenwehren 2\, Bad Sulza\, 99518\, Deutschland
CATEGORIES:Gesundheitsberater
ORGANIZER;CN="Nat%C3%BCrlich Gesund e.V.":MAILTO:info@ngev.org
END:VEVENT
END:VCALENDAR